BEGIN:VCALENDAR
PRODID:-//AT Content Types//AT Event//EN
VERSION:2.0
METHOD:PUBLISH
BEGIN:VEVENT
DTSTAMP:20260419T143400Z
CREATED:20181120T105507Z
UID:ATEvent-8529cbabbd744d459d85235858b7b3ad
LAST-MODIFIED:20181212T145133Z
SUMMARY:La filiera automotive italiana e le prossime sfide tecnologiche\, ambientali e normative
DTSTART:20181214T140000Z
DTEND:20181214T160000Z
DESCRIPTION:Incontro di aggiornamento e networking con un rappresentan
 te di ANFIA dedicato alla Filiera Automotive di Assolombarda
LOCATION:- Assolombarda - Sala Bracco (piano interrato) - Via Chiaravalle 8\, Milano
CONTACT:gruppi@assolombarda.it
URL:https://www.assolombarda.it/le-imprese/filiere/filiera-automotive/incontro-con-anfia-dedicato-alla-filiera-automotive
CLASS:PUBLIC
END:VEVENT
END:VCALENDAR
