BEGIN:VCALENDAR
PRODID:-//AT Content Types//AT Event//EN
VERSION:2.0
METHOD:PUBLISH
BEGIN:VEVENT
DTSTAMP:20260422T043205Z
CREATED:20240119T112353Z
UID:ATEvent-1172b83651c548fcb0dc67e57d2a610b
LAST-MODIFIED:20250108T140714Z
SUMMARY:Calendario 2024 riunioni Filiera Automotive
DTSTART:20240101T080000Z
DTEND:20241231T190000Z
LOCATION:da definire
CATEGORIES:riunione, Business Networking, Filiere.Filiera Automotive, Filiere, Business Networking.Filiere
CLASS:PUBLIC
END:VEVENT
END:VCALENDAR
