BEGIN:VCALENDAR
PRODID:-//AT Content Types//AT Event//EN
VERSION:2.0
METHOD:PUBLISH
BEGIN:VEVENT
DTSTAMP:20260419T143550Z
CREATED:20191015T130057Z
UID:ATEvent-32a8cfb13f7549a9a77c7a14ec1bdd93
LAST-MODIFIED:20191114T112841Z
SUMMARY:La Filiera Automotive di Assolombarda organizza la visita in Bosch Italia
DTSTART:20191120T130000Z
DTEND:20191120T160000Z
DESCRIPTION:Proseguono gli incontri con alcune eccellenze del sistema 
 produttivo nazionale: il 20 novembre Visita in Bosch Italia - sede di 
 Offalengo - Cremona.
LOCATION:WHIT – Gruppo BOSCH – Strada Vicinale delle Sabbione 5\, Offanengo (CR)
CONTACT:gruppi@assolombarda.it
URL:https://www.assolombarda.it/le-imprese/filiere/filiera-automotive/appuntamenti/la-filiera-automotive-di-assolombarda-organizza-un-incontro-visita-in-bosch-italia
CLASS:PUBLIC
END:VEVENT
END:VCALENDAR
