BEGIN:VCALENDAR
PRODID:-//AT Content Types//AT Event//EN
VERSION:2.0
METHOD:PUBLISH
BEGIN:VEVENT
DTSTAMP:20260424T104727Z
CREATED:20151113T095858Z
UID:ATEvent-dbcd304fd8eeaef7d67dd85bd41fd24a
LAST-MODIFIED:20151124T134654Z
SUMMARY:Convegno Destinazione Milano: performance per il settore alberghiero e turistico durante l'Expo
DTSTART:20151201T163000Z
DTEND:20151201T183000Z
LOCATION:Excelsior Hotel Gallia - Sala Duomo - P.zza Duca d’Aosta 9\, Milano
CONTACT:gruppi@assolombarda.it
URL:https://www.assolombarda.it/governance/gruppi/turistico/appuntamenti/convegno-destinazione-milano-performance-per-il-settore-alberghiero-e-turistico-durante-lexpo
CLASS:PUBLIC
END:VEVENT
END:VCALENDAR
