BEGIN:VCALENDAR
PRODID:-//AT Content Types//AT Event//EN
VERSION:2.0
METHOD:PUBLISH
BEGIN:VEVENT
DTSTAMP:20260420T124042Z
CREATED:20190510T093710Z
UID:ATEvent-cbbd4c63659b4e2abed0b7e2a0bd9177
LAST-MODIFIED:20190513T072609Z
SUMMARY:People are Media: il fenomeno dell'influencer marketing - 27 maggio
DTSTART:20190527T150000Z
DTEND:20190527T173000Z
DESCRIPTION:Come utilizzare l’influencer marketing per migliorare il
  business del proprio brand?
LOCATION:- Assolombarda - Auditorium Gio Ponti (piano interrato) - Via Pantano 9\, Milano
CONTACT:gruppi@assolombarda.it
URL:https://www.assolombarda.it/governance/gruppi/media-comunicazione-spettacolo/appuntamenti/people-are-media-il-fenomeno-dellinfluencer-marketing-27-maggio
CLASS:PUBLIC
END:VEVENT
END:VCALENDAR
