BEGIN:VCALENDAR
PRODID:-//AT Content Types//AT Event//EN
VERSION:2.0
METHOD:PUBLISH
BEGIN:VEVENT
DTSTAMP:20260420T110609Z
CREATED:20181019T134512Z
UID:ATEvent-7f8ce462972e43a6b1cd5667d35dbd43
LAST-MODIFIED:20181031T094818Z
SUMMARY:Non chiamatemi Jingle - Musica\, brand ed evoluzione digitale
DTSTART:20181122T160000Z
DTEND:20181122T190000Z
DESCRIPTION:Evento con finalità didattiche\, di critica e di discussi
 one dedicato al ruolo della musica in pubblicità.
LOCATION:- Assolombarda - Auditorium Gio Ponti (piano interrato) - Via Pantano 9\, Milano
CONTACT:gruppi@assolombarda.it
URL:https://www.assolombarda.it/governance/gruppi/media-comunicazione-spettacolo/appuntamenti/non-chiamatemi-jingle-musica-brand-ed-evoluzione-digitale
CLASS:PUBLIC
END:VEVENT
END:VCALENDAR
