BEGIN:VCALENDAR
PRODID:-//AT Content Types//AT Event//EN
VERSION:2.0
METHOD:PUBLISH
BEGIN:VEVENT
DTSTAMP:20260420T123955Z
CREATED:20171013T125737Z
UID:ATEvent-3b8ab5f350a447bbaa62023dde1e9ed4
LAST-MODIFIED:20171017T102231Z
SUMMARY:Le Professioni del Futuro - Tecniche\, Mestieri e Digital Art - Evento 23 ottobre
DTSTART:20171023T130000Z
DTEND:20171023T153000Z
LOCATION:- Assolombarda - Auditorium Gio Ponti (piano interrato) - Via Pantano 9\, Milano
URL:https://www.assolombarda.it/governance/gruppi/media-comunicazione-spettacolo/appuntamenti/le-professioni-del-futuro-tecniche-mestieri-e-digital-art-evento-23-ottobre
CLASS:PUBLIC
END:VEVENT
END:VCALENDAR
