BEGIN:VCALENDAR
PRODID:-//AT Content Types//AT Event//EN
VERSION:2.0
METHOD:PUBLISH
BEGIN:VEVENT
DTSTAMP:20260420T113215Z
CREATED:20171109T140306Z
UID:ATEvent-4791abc307914a76a30a604984e74765
LAST-MODIFIED:20171109T140901Z
SUMMARY:Consiglio Gruppo Chimici - 17 maggio 2017
DTSTART:20170517T080000Z
DTEND:20170517T110000Z
LOCATION:solombarda Confindustria Milano Monza e Brianza (sala Isotta Fraschini) – via Pantano 9\, Milano
CATEGORIES:riunione, Vita di Assolombarda, Vita di Assolombarda.Gruppo Chimici
CLASS:PUBLIC
END:VEVENT
END:VCALENDAR
