Workbook
Name _ftn1: 'Focus - POLITICHE RETRIBUTIVE'!#REF!
Name _ftn1: 'I. Questionario nazionale'!#REF!
Name _ftn1: 'II. Gomma Plastica Cavi'!#REF!
Name _ftn1: #REF!
Name _ftn2: 'Focus - POLITICHE RETRIBUTIVE'!#REF!
Name _ftn2: 'I. Questionario nazionale'!#REF!
Name _ftn2: 'II. Gomma Plastica Cavi'!#REF!
Name _ftn3: 'Focus - POLITICHE RETRIBUTIVE'!#REF!
Name _ftn3: 'I. Questionario nazionale'!#REF!
Name _ftn3: 'II. Gomma Plastica Cavi'!#REF!
Name _ftn4: 'Focus - POLITICHE RETRIBUTIVE'!#REF!
Name _ftn4: 'I. Questionario nazionale'!#REF!
Name _ftn4: 'II. Gomma Plastica Cavi'!#REF!
Name _ftn5: 'Focus - POLITICHE RETRIBUTIVE'!#REF!
Name _ftn5: 'I. Questionario nazionale'!#REF!
Name _ftn5: 'II. Gomma Plastica Cavi'!#REF!
Name _ftn6: 'Focus - POLITICHE RETRIBUTIVE'!#REF!
Name _ftn6: 'I. Questionario nazionale'!#REF!
Name _ftn6: 'II. Gomma Plastica Cavi'!#REF!
Name _ftn7: 'Focus - POLITICHE RETRIBUTIVE'!#REF!
Name _ftn7: 'I. Questionario nazionale'!#REF!
Name _ftn7: 'II. Gomma Plastica Cavi'!#REF!
Name _ftnref1: 'Focus - POLITICHE RETRIBUTIVE'!#REF!
Name _ftnref1: 'I. Questionario nazionale'!#REF!
Name _ftnref1: 'II. Gomma Plastica Cavi'!#REF!
Name _ftnref1: #REF!
Name _ftnref2: 'Focus - POLITICHE RETRIBUTIVE'!#REF!
Name _ftnref2: 'I. Questionario nazionale'!#REF!
Name _ftnref2: 'II. Gomma Plastica Cavi'!#REF!
Name _ftnref3: 'Focus - POLITICHE RETRIBUTIVE'!#REF!
Name _ftnref3: 'I. Questionario nazionale'!#REF!
Name _ftnref3: 'II. Gomma Plastica Cavi'!#REF!
Name _ftnref4: 'Focus - POLITICHE RETRIBUTIVE'!#REF!
Name _ftnref4: 'I. Questionario nazionale'!#REF!
Name _ftnref4: 'II. Gomma Plastica Cavi'!#REF!
Name _ftnref5: 'Focus - POLITICHE RETRIBUTIVE'!#REF!
Name _ftnref5: 'I. Questionario nazionale'!#REF!
Name _ftnref5: 'II. Gomma Plastica Cavi'!#REF!
Name _ftnref6: 'Focus - POLITICHE RETRIBUTIVE'!#REF!
Name _ftnref6: 'I. Questionario nazionale'!#REF!
Name _ftnref6: 'II. Gomma Plastica Cavi'!#REF!
Name _ftnref7: 'Focus - POLITICHE RETRIBUTIVE'!#REF!
Name _ftnref7: 'I. Questionario nazionale'!#REF!
Name _ftnref7: 'II. Gomma Plastica Cavi'!#REF!
Name Button_1: "Struttura_database__maschera_biagi_2006_maschera_Elenca"

Sheet I. Questionario nazionale
C1: Indagine Confindustria sul lavoro del 2025 | L1: Colonna di controllo
C5: Questionario Nazionale
K6: FALSE
A8: Persona a cui inviare i risultati:
A10: E-mail: | L10: =+IF(B10="","Compilare E-mail","") -> Compilare E-mail
A12: A) INFORMAZIONI GENERALI SULL'IMPRESA
A13: 9
A15: A.1 Denominazione dell'impresa | L15: =+IF(F15="","Compilare denominazione impresa","") -> Compilare denominazione impresa
A17: A.2 Associazione territoriale e/o di categoria | F17: ASSOLOMBARDA | L17: =+IF(F17="","Compilare Associazione","")
L18: =+IF(C19="","Compilare Partita IVA",IF(LEN(C19)>11,"Partita IVA oltre 11 caratteri?","")) -> Compilare Partita IVA
A19: A.3 Partita IVA | F19: A.4.1 CCNL | J19: 1 | L19: =+IF(J19=1,"Scegliere CCNL principale","") -> Scegliere CCNL principale | N19: =IF(NOT(J19=""),VLOOKUP(J19,ccnl!A2:C82,3,FALSE),"0") -> 0
A21: A.4.2 Codice Ateco attività principale | J21: 1 | L21: =+IF(J21=1,"Scegliere settore Ateco principale","") -> Scegliere settore Ateco principale | N21: =IF(NOT(J21=""),VLOOKUP(J21,ateco2007_2digit!A2:C90,3,FALSE),"0") -> 0
A23: A.5 L'impresa è plurilocalizzata? | H23: No | I23: FALSE | J23: Sì | K23: FALSE | L23: =IF(P23+Q23>1,"Scegliere una sola opzione","") | N23: =+IF(I23=TRUE,1,0) -> 0 | O23: =+IF(K23=TRUE,1,0) -> 0 | P23: =N23*1 -> 0 | Q23: =O23*1 -> 0
A25: A.6 I dati che inserirà nel questionario riguardano: | L25: =IF(NOT(N27=1),IF(NOT(N29=1),"Compilare A.6",""),IF(NOT(N29=1),"","Attenzione compilare solo un'opzione!")) -> Compilare A.6
B27: =IF(P23=1,"l'unica sede","tutta l'impresa a livello nazionale") -> tutta l'impresa a livello nazionale | E27: FALSE | H27: Provincia | K27: 1 | L27: =IF(AND(P23=1,Q23=0),IF(N27=1,IF(O27>0,"","Scegliere Provincia dell'unica sede"),IF(O27>0,"Attenzione A.6!","")),IF(AND(P23=0,Q23=1),IF(N27=1,IF(O27>0,"","Scegliere Provincia della sede principale"),IF(O27>0,"Attenzione A.6!","")),"")) | N27: =+IF(E27=TRUE,1,0) -> 0 | O27: =+IF(NOT(K27=""),VLOOKUP(K27,provincia!A1:C108,3,FALSE),0) -> 0 | P27: =N27*1 -> 0
B29: solo l'unità locale | E29: FALSE | H29: Provincia | K29: 1 | L29: =IF(OR(AND(N23=1,P29=1),AND(N23=0,O23=0,P29=1)),"Attenzione A.5!",IF(P29=1,IF(O29>"0","","Scegliere Provincia dell'unità locale"),IF(AND(P29=0,O29>"0"),"Attenzione A.6!",""))) | N29: =+IF(E29=TRUE,1,0) -> 0 | O29: =IF(NOT(K29=""),VLOOKUP(K29,provincia!A1:C108,3,FALSE),0) -> 0 | P29: =N29*1 -> 0
A32: B) STRUTTURA E DINAMICA DELL'OCCUPAZIONE
A34: B.1 Numero di lavoratori dipendenti per sesso e tipologia contrattuale
D36: Lavoratori al 31.12.2023 | H36: Lavoratori al 31.12.2024 | I36: FALSE | K36: TRUE
D37: Maschi | F37: Femmine | H37: Maschi | J37: Femmine
A38: Indeterminato full-time
A39: Indeterminato part-time
A40: Totale INDETERMINATO | D40: =+SUM(D38:E39) -> 0 | F40: =+SUM(F38:G39) -> 0 | H40: =+SUM(H38:I39) -> 0 | J40: =+SUM(J38:K39) -> 0
A41: Determinato full-time
A42: Determinato part-time
A43: Apprendistato
A44: TOTALE dipendenti | D44: =D40+SUM(D41:E43) -> 0 | F44: =F40+SUM(F41:G43) -> 0 | H44: =H40+SUM(H41:I43) -> 0 | J44: =J40+SUM(J41:K43) -> 0
A48: B.2 Numero di lavoratori DIPENDENTI A TEMPO INDETERMINATO per sesso e inquadramento professionale
A50: Attenzione: questa tabella è riferita ai soli LAVORATORI A TEMPO INDETERMINATO | D50: Lavoratori al 31.12.2023 | H50: Lavoratori al 31.12.2024
D51: Maschi | E51: di cui part-time | F51: Femmine | G51: di cui part-time | H51: Maschi | I51: di cui part-time | J51: Femmine | K51: di cui part-time
A52: Dirigenti | L52: =IF(D40>0,IF(D57>0,IF(AND(D40=D57,D39=E57),"","Attenzione Maschi 2023 in B.1!"),"Compilare Maschi 2023 in B.2"),IF(AND(D40=D57,D39=E57),"","Attenzione Maschi 2023 in B.1!"))
A53: Quadri | L53: =IF(F40>0, IF(F57>0,IF(AND(F40=F57,F39=G57),"","Attenzione Femmine 2023 in B.1!"),"Compilare Femmine 2023 in B.2"),IF(AND(F40=F57,F39=G57),"","Attenzione Femmine 2023 in B.1!"))
A54: Impiegati | L54: =IF((D39+F39)>0,IF((E57+G57)>0,IF((E57+G57)=(D39+F39),"","Attenzione part-time 2023 in B.2!"),"Compilare part-time 2023 in B.2"),IF((E57+G57)=(D39+F39),"","Attenzione part-time 2023 in B.2!"))
A55: Intermedi | L55: =IF(H40>0, IF(H57>0,IF(AND(H40=H57,H39=I57),"","Attenzione Maschi 2024 in B.1!"),"Compilare Maschi 2024 in B.2"),IF(AND(H40=H57,H39=I57),"","Attenzione Maschi 2024 in B.1!"))
A56: Operai | L56: =IF(J40>0, IF(J57>0,IF(AND(J40=J57,J39=K57),"","Attenzione Femmine 2024 in B.1!"),"Compilare Femmine 2024 in B.2"),IF(AND(J40=J57,J39=K57),"","Attenzione Femmine 2024 in B.1!"))
A57: Totale INDETERMINATO | D57: =+SUM(D52:D56) -> 0 | E57: =+SUM(E52:E56) -> 0 | F57: =+SUM(F52:F56) -> 0 | G57: =+SUM(G52:G56) -> 0 | H57: =+SUM(H52:H56) -> 0 | I57: =+SUM(I52:I56) -> 0 | J57: =+SUM(J52:J56) -> 0 | K57: =+SUM(K52:K56) -> 0 | L57: =IF((H39+J39)>0,IF((I57+K57)>0,IF((I57+K57)=(H39+J39),"","Attenzione part-time 2024 in B.2!"),"Compilare part-time 2024 in B.2"),IF((I57+K57)=(H39+J39),"","Attenzione part-time 2024 in B.2!"))
A59: B.3 Indicare il numero di dipendenti che nel corso del 2024 sono stati:
A60: N.B. non vanno conteggiate le variazioni che riguardino lo stesso lavoratore (es. i rinnovi/proroghe di contratti a tempo determinato o le trasformazioni da tempo determinato a tempo indeterminato)
B61: assunti | L61: =IF((I61+I63)>0, IF((H44+J44-D44-F44)=(I61-I63),"","Attenzione: dati non coerenti con variazione tra 31.12.2023 e 31.12.2024 del totale dipendenti ricavabile da B.1"),"")
B63: cessati (dimessi, pensionati, licenziati, con contratti terminati, ...)
...

Sheet Focus - POLITICHE RETRIBUTIVE
A1: G) POLITICHE RETRIBUTIVE
A2: A.1 Denominazione dell'impresa | F2: =+'I. Questionario nazionale'!F15 -> 0 | L2: =+IF(F2="","Compilare denominazione impresa","")
A4: A.2 Associazione territoriale e/o di categoria | F4: =+'I. Questionario nazionale'!F17 -> ASSOLOMBARDA | L4: =+IF(F4="","Compilare Associazione","")
L5: =+IF(C6="","Compilare Partita IVA (senza zeri iniziali)",IF(LEN(C6)>11,"Partita IVA oltre 11 caratteri?",""))
A6: A.3 Partita IVA | C6: =+'I. Questionario nazionale'!C19 -> 0
A8: G.1 L'impresa ha una struttura di politica retributiva formalizzata?
H9: No | I9: FALSE | J9: Sì | K9: FALSE
L10: =IF(I9+K9>1,"scegliere una sola opzione","") | N10: =IF($I$9=TRUE,"1","0") -> 0 | O10: =IF($K$9=TRUE,"1","0") -> 0 | P10: =N10*1 -> 0 | Q10: =O10*1 -> 0
A12: G.2 Quali criteri vengono utilizzati per aumentare la RAL (Retribuzione Annua Lorda)?
I13: dirigenti | J13: quadri | K13: impiegati | L13: operai/intermedi | N13: dirigenti | O13: quadri | P13: impiegati | Q13: operai/intermedi
B14: Nessun criterio | I14: FALSE | J14: FALSE | K14: FALSE | L14: FALSE | N14: =IF($N$10="1","",IF(AND($O$10="1",I$22=0),"",IF(I14=TRUE,"1","0"))) -> 0 | O14: =IF($N$10="1","",IF(AND($O$10="1",J$22=0),"",IF(J14=TRUE,"1","0"))) -> 0 | P14: =IF($N$10="1","",IF(AND($O$10="1",K$22=0),"",IF(K14=TRUE,"1","0"))) -> 0 | Q14: =IF($N$10="1","",IF(AND($O$10="1",L$22=0),"",IF(L14=TRUE,"1","0"))) -> 0
B15: Obiettivi aziendali | I15: FALSE | J15: FALSE | K15: FALSE | L15: FALSE | N15: =IF($N$10="1","",IF(AND($O$10="1",I$22=0),"",IF(I15=TRUE,"1","0"))) -> 0 | O15: =IF($N$10="1","",IF(AND($O$10="1",J$22=0),"",IF(J15=TRUE,"1","0"))) -> 0 | P15: =IF($N$10="1","",IF(AND($O$10="1",K$22=0),"",IF(K15=TRUE,"1","0"))) -> 0 | Q15: =IF($N$10="1","",IF(AND($O$10="1",L$22=0),"",IF(L15=TRUE,"1","0"))) -> 0
B16: Obiettivi individuali | I16: FALSE | J16: FALSE | K16: FALSE | L16: FALSE | N16: =IF($N$10="1","",IF(AND($O$10="1",I$22=0),"",IF(I16=TRUE,"1","0"))) -> 0 | O16: =IF($N$10="1","",IF(AND($O$10="1",J$22=0),"",IF(J16=TRUE,"1","0"))) -> 0 | P16: =IF($N$10="1","",IF(AND($O$10="1",K$22=0),"",IF(K16=TRUE,"1","0"))) -> 0 | Q16: =IF($N$10="1","",IF(AND($O$10="1",L$22=0),"",IF(L16=TRUE,"1","0"))) -> 0
B17: Job evaluation/Classificazione dei ruoli | I17: FALSE | J17: FALSE | K17: FALSE | L17: FALSE | N17: =IF($N$10="1","",IF(AND($O$10="1",I$22=0),"",IF(I17=TRUE,"1","0"))) -> 0 | O17: =IF($N$10="1","",IF(AND($O$10="1",J$22=0),"",IF(J17=TRUE,"1","0"))) -> 0 | P17: =IF($N$10="1","",IF(AND($O$10="1",K$22=0),"",IF(K17=TRUE,"1","0"))) -> 0 | Q17: =IF($N$10="1","",IF(AND($O$10="1",L$22=0),"",IF(L17=TRUE,"1","0"))) -> 0
B18: Posizionamento rispetto al mercato di riferimento | I18: FALSE | J18: FALSE | K18: FALSE | L18: FALSE | N18: =IF($N$10="1","",IF(AND($O$10="1",I$22=0),"",IF(I18=TRUE,"1","0"))) -> 0 | O18: =IF($N$10="1","",IF(AND($O$10="1",J$22=0),"",IF(J18=TRUE,"1","0"))) -> 0 | P18: =IF($N$10="1","",IF(AND($O$10="1",K$22=0),"",IF(K18=TRUE,"1","0"))) -> 0 | Q18: =IF($N$10="1","",IF(AND($O$10="1",L$22=0),"",IF(L18=TRUE,"1","0"))) -> 0
B19: Anzianità di servizio | I19: FALSE | J19: FALSE | K19: FALSE | L19: FALSE | N19: =IF($N$10="1","",IF(AND($O$10="1",I$22=0),"",IF(I19=TRUE,"1","0"))) -> 0 | O19: =IF($N$10="1","",IF(AND($O$10="1",J$22=0),"",IF(J19=TRUE,"1","0"))) -> 0 | P19: =IF($N$10="1","",IF(AND($O$10="1",K$22=0),"",IF(K19=TRUE,"1","0"))) -> 0 | Q19: =IF($N$10="1","",IF(AND($O$10="1",L$22=0),"",IF(L19=TRUE,"1","0"))) -> 0
B20: Tasso di inflazione | I20: FALSE | J20: FALSE | K20: FALSE | L20: FALSE | N20: =IF($N$10="1","",IF(AND($O$10="1",I$22=0),"",IF(I20=TRUE,"1","0"))) -> 0 | O20: =IF($N$10="1","",IF(AND($O$10="1",J$22=0),"",IF(J20=TRUE,"1","0"))) -> 0 | P20: =IF($N$10="1","",IF(AND($O$10="1",K$22=0),"",IF(K20=TRUE,"1","0"))) -> 0 | Q20: =IF($N$10="1","",IF(AND($O$10="1",L$22=0),"",IF(L20=TRUE,"1","0"))) -> 0
B21: Altro | I21: FALSE | J21: FALSE | K21: FALSE | L21: FALSE | N21: =IF($N$10="1","",IF(AND($O$10="1",I$22=0),"",IF(I21=TRUE,"1","0"))) -> 0 | O21: =IF($N$10="1","",IF(AND($O$10="1",J$22=0),"",IF(J21=TRUE,"1","0"))) -> 0 | P21: =IF($N$10="1","",IF(AND($O$10="1",K$22=0),"",IF(K21=TRUE,"1","0"))) -> 0 | Q21: =IF($N$10="1","",IF(AND($O$10="1",L$22=0),"",IF(L21=TRUE,"1","0"))) -> 0
I22: ='I. Questionario nazionale'!H52+'I. Questionario nazionale'!J52 -> 0 | J22: ='I. Questionario nazionale'!H53+'I. Questionario nazionale'!J53 -> 0 | K22: ='I. Questionario nazionale'!H54+'I. Questionario nazionale'!J54 -> 0 | L22: ='I. Questionario nazionale'!H55+'I. Questionario nazionale'!J55+'I. Questionario nazionale'!H56+'I. Questionario nazionale'!J56 -> 0 | M22: =SUM(I22:L22) -> 0
A23: G.3 Quale prevede sarà, nel 2025, l'incremento medio della RAL (Retribuzione Annua Lorda) per ciascuna categoria di dipendenti?
F25: Incremento % (incrementi di merito e previsti dal CCNL)
A26: =IF(F26>0.15,_xlfn.CONCAT($R$26,S26,$T$26),"") | E26: Dirigenti | G26: =IF(F26<0,"Inserire un valore maggiore o uguale a zero","") | P26: =IF(I22>0,F26,"") | R26: Le retribuzioni sono aumentate mediamente del | S26: =F26*100 -> 0 | T26: %?
A27: =IF(F27>0.15,_xlfn.CONCAT($R$26,S27,$T$26),"") | E27: Quadri | G27: =IF(F27<0,"Inserire un valore maggiore o uguale a zero","") | P27: =IF(J22>0,F27,"") | S27: =F27*100 -> 0
A28: =IF(F28>0.15,_xlfn.CONCAT($R$26,S28,$T$26),"") | E28: Impiegati | G28: =IF(F28<0,"Inserire un valore maggiore o uguale a zero","") | P28: =IF(K22>0,F28,"") | S28: =F28*100 -> 0
A29: =IF(F29>0.15,_xlfn.CONCAT($R$26,S29,$T$26),"") | E29: Operai / Intermedi | G29: MEDIA PONDERATA | I29: =SUM(I30:L30)/M30 -> #VALUE! | P29: =IF(L22>0,F29,"") | S29: =F29*100 -> 0
I30: =IF(I22=0,"",F26*I22) | J30: =IF(J22=0,"",F27*J22) | K30: =IF(K22=0,"",F28*K22) | L30: =IF(L22=0,"",F29*L22) | M30: =IF(M22=0,"",M22)
A31: Qualora il dato per categoria di dipendenti non fosse disponibile, indicare la media dell'azienda
F32: Incremento % (incrementi di merito e previsti dal CCNL)
E33: MEDIA AZIENDA
A35: G.4 L'impresa riconosce un premio variabile?
G37: no | H37: FALSE | I37: =IF(OR(H37+'I. Questionario nazionale'!K264>1,'I. Questionario nazionale'!K264+'Focus - POLITICHE RETRIBUTIVE'!H38>1),"Attenzione! In F3 hai indicato l'erogazione di premi variabili collettivi","") | N37: =+IF(H37=TRUE,"1","0") -> 0 | P37: =N37*1 -> 0
G38: sì, solo premi variabili individuali | H38: FALSE | N38: =+IF(H38=TRUE,"1","0") -> 0 | P38: =N38*1 -> 0
G39: sì, solo premi variabili collettivi | H39: FALSE | N39: =+IF(H39=TRUE,"1","0") -> 0 | P39: =N39*1 -> 0
G40: sì, sia premi variabili collettivi che individuali | H40: FALSE | N40: =+IF(H40=TRUE,"1","0") -> 0 | P40: =N40*1 -> 0
A42: G.5 Quali sono gli indicatori (di produttività, redditività, efficienza, qualità o innovazione) sulla base dei quali vengono erogati i premi variabili?
B45: Volume della produzione/n. dipendenti | H45: FALSE | N45: =IF($N$37="1","",IF(H45=TRUE,"1","0")) -> 0 | P45: =IF(N45="","",N45*1) -> 0
B46: Fatturato o VA di bilancio/n. dipendenti | H46: FALSE | N46: =IF($N$37="1","",IF(H46=TRUE,"1","0")) -> 0 | P46: =IF(N46="","",N46*1) -> 0
B47: MOL/VA di bilancio | H47: FALSE | N47: =IF($N$37="1","",IF(H47=TRUE,"1","0")) -> 0 | P47: =IF(N47="","",N47*1) -> 0
B48: Indici di soddisfazione del cliente | H48: FALSE | N48: =IF($N$37="1","",IF(H48=TRUE,"1","0")) -> 0 | P48: =IF(N48="","",N48*1) -> 0
B49: Diminuzione n. riparazioni, rilavorazioni | H49: FALSE | N49: =IF($N$37="1","",IF(H49=TRUE,"1","0")) -> 0 | P49: =IF(N49="","",N49*1) -> 0
...

Sheet Focus - SUPPORTO GENITORIALITÀ
A1: SUPPORTO ALLA GENITORIALITÀ | N1: Colonna di controllo
A3: LEGENDA
A4: Congedo di maternità: periodo obbligatorio di astensione per le madri in prossimità del parto (5 mesi, retribuito all'80% dello stipendio).
A5: Congedo di paternità: periodo obbligatorio di astensione per i padri (10 giorni, retribuito al 100% dello stipendio).
A6: Congedo parentale: periodo facoltativo di astensione disponibile per entrambi i genitori, della durata massima di 6 mesi per ciascun genitore, con un massimo complessivo di 10 mesi (o 11 mesi se il padre utilizza almeno 3 mesi). Il congedo parentale è retribuito al 30% dello stipendio.
A8: 1) A supporto della genitorialità l'impresa prevede la possibilità di congedi con condizioni più favorevoli rispetto a quanto previsto dalla legge e dal CCNL ed integrate economicamente tra il 30% e il 100%?
F10: Sì | G10: FALSE | N10: =IF(AND(G11=FALSE,G10=TRUE),"Andare alla domanda 1a)","") | O10: Sì | P10: =IF(G10=TRUE,"1","0") -> 0 | Q10: =P10*1 -> 0
F11: No | G11: FALSE | N11: =IF(AND(G11=TRUE,G10=FALSE),"Andare alla domanda 2)","") | O11: No | P11: =IF(G11=TRUE,"1","0") -> 0 | Q11: =P11*1 -> 0
N12: =IF(G10+G11>1,"Scegliere una sola opzione!","")
A13: 1a) Se sì, selezioni tutte le opzioni applicabili - tra quelle proposte - e specifichi per ognuna l’oggetto dell’ampliamento (durata e/o indennità)
F15: Durata | G15: Indennità | P15: Durata | Q15: Indennità | U15: Durata | V15: Indennità
C16: Per congedo di maternità | F16: FALSE | G16: FALSE | O16: mat | P16: =IF(F16=TRUE,"1","0") -> 0 | Q16: =IF(G16=TRUE,"1","0") -> 0 | T16: mat | U16: =P16*1 -> 0 | V16: =Q16*1 -> 0
C17: Per congedo di paternità | F17: FALSE | G17: FALSE | O17: pat | P17: =IF(F17=TRUE,"1","0") -> 0 | Q17: =IF(G17=TRUE,"1","0") -> 0 | T17: pat | U17: =P17*1 -> 0 | V17: =Q17*1 -> 0
C18: Per congedo parentale | F18: FALSE | G18: FALSE | O18: par. | P18: =IF(F18=TRUE,"1","0") -> 0 | Q18: =IF(G18=TRUE,"1","0") -> 0 | T18: par. | U18: =P18*1 -> 0 | V18: =Q18*1 -> 0
A21: 2) L’impresa prevede condizioni di miglior favore a supporto della genitorialità in tema di orario lavorativo flessibile/smart working?
N22: =IF(G23+G24>1,"Scegliere una sola opzione!","")
F23: Sì | G23: FALSE | N23: =IF(AND(G24=FALSE,G23=TRUE),"Andare alla domanda 2a)","") | O23: Sì | P23: =IF(G23=TRUE,"1",0) -> 0 | Q23: =1*P23 -> 0
F24: No | G24: FALSE | N24: =IF(AND(G24=TRUE,G23=FALSE),"Andare alla domanda 3)","") | O24: No | P24: =IF(G24=TRUE,"1","0") -> 0 | Q24: =1*P24 -> 0
A26: 2a) Se sì, quali? (selezioni tutte le opzioni applicabili)
F28: Smart working | H28: Flessibilità di orario di ingresso | J28: Flessibilità di orario di uscita
P29: smart | Q29: fless entrata | R29: fless uscita | U29: smart | V29: fless entrata | W29: fless uscita
C30: Dirigenti e quadri | F30: FALSE | H30: FALSE | J30: FALSE | O30: dir e qua | P30: =IF(F30=TRUE,"1","0") -> 0 | Q30: =IF(H30=TRUE,"1","0") -> 0 | R30: =IF(J30=TRUE,"1","0") -> 0 | T30: dir e qua | U30: =1*P30 -> 0 | V30: =1*Q30 -> 0 | W30: =1*R30 -> 0
C31: Impiegati e operai | F31: FALSE | H31: FALSE | J31: FALSE | O31: imp e op | P31: =IF(F31=TRUE,"1","0") -> 0 | Q31: =IF(H31=TRUE,"1","0") -> 0 | R31: =IF(J31=TRUE,"1","0") -> 0 | T31: imp e op | U31: =1*P31 -> 0 | V31: =1*Q31 -> 0 | W31: =1*R31 -> 0
A34: 3) In che misura concorda che l’integrazione da parte dell’azienda dei seguenti istituti e la promozione del loro utilizzo siano strumenti efficaci per attrarre e trattenere talenti?
F36: Decisamente d'accordo | H36: D'accordo | J36: In disaccordo | L36: Decisamente in disaccordo
P37: dec acc | Q37: acc | R37: disacc | S37: dec disacc | W37: dec acc | X37: acc | Y37: disacc | Z37: dec disacc
C38: Congedo di maternità | F38: FALSE | H38: FALSE | J38: FALSE | L38: FALSE | N38: =IF(F38+H38+J38+L38>1,"Inserire una sola opzione!","") | O38: Congedo di maternità | P38: =IF(F38=TRUE,"1","0") -> 0 | Q38: =IF(H38=TRUE,"1","0") -> 0 | R38: =IF(J38=TRUE,"1","0") -> 0 | S38: =IF(L38=TRUE,"1","0") -> 0 | V38: Congedo di maternità | W38: =1*P38 -> 0 | X38: =1*Q38 -> 0 | Y38: =1*R38 -> 0 | Z38: =1*S38 -> 0
C39: Congedo di paternità | F39: FALSE | H39: FALSE | J39: FALSE | L39: FALSE | N39: =IF(F39+H39+J39+L39>1,"Inserire una sola opzione!","") | O39: Congedo di paternità | P39: =IF(F39=TRUE,"1","0") -> 0 | Q39: =IF(H39=TRUE,"1","0") -> 0 | R39: =IF(J39=TRUE,"1","0") -> 0 | S39: =IF(L39=TRUE,"1","0") -> 0 | V39: Congedo di paternità | W39: =1*P39 -> 0 | X39: =1*Q39 -> 0 | Y39: =1*R39 -> 0 | Z39: =1*S39 -> 0
C40: Congedo parentale | F40: FALSE | H40: FALSE | J40: FALSE | L40: FALSE | N40: =IF(F40+H40+J40+L40>1,"Inserire una sola opzione!","") | O40: Congedo parentale | P40: =IF(F40=TRUE,"1","0") -> 0 | Q40: =IF(H40=TRUE,"1","0") -> 0 | R40: =IF(J40=TRUE,"1","0") -> 0 | S40: =IF(L40=TRUE,"1","0") -> 0 | V40: Congedo parentale | W40: =1*P40 -> 0 | X40: =1*Q40 -> 0 | Y40: =1*R40 -> 0 | Z40: =1*S40 -> 0
C41: Orario lavorativo flessibile | F41: FALSE | H41: FALSE | J41: FALSE | L41: FALSE | N41: =IF(F41+H41+J41+L41>1,"Inserire una sola opzione!","") | O41: Orario lavorativo flessibile | P41: =IF(F41=TRUE,"1","0") -> 0 | Q41: =IF(H41=TRUE,"1","0") -> 0 | R41: =IF(J41=TRUE,"1","0") -> 0 | S41: =IF(L41=TRUE,"1","0") -> 0 | V41: Orario lavorativo flessibile | W41: =1*P41 -> 0 | X41: =1*Q41 -> 0 | Y41: =1*R41 -> 0 | Z41: =1*S41 -> 0
C42: Smart working | F42: FALSE | H42: FALSE | J42: FALSE | L42: FALSE | N42: =IF(F42+H42+J42+L42>1,"Inserire una sola opzione!","") | O42: Smart working | P42: =IF(F42=TRUE,"1","0") -> 0 | Q42: =IF(H42=TRUE,"1","0") -> 0 | R42: =IF(J42=TRUE,"1","0") -> 0 | S42: =IF(L42=TRUE,"1","0") -> 0 | V42: Smart working | W42: =1*P42 -> 0 | X42: =1*Q42 -> 0 | Y42: =1*R42 -> 0 | Z42: =1*S42 -> 0
A44: 4) Quale effetto ritiene che l’utilizzo dei seguenti istituti da parte dei dipendenti possa avere sulla loro produttività?
F46: Aumento | G46: Nessuno | H46: Diminuzione | P46: Aumento | Q46: Nessuno | R46: Diminuzione | W46: Aumento | X46: Nessuno | Y46: Diminuzione
C47: Congedo di maternità | F47: FALSE | G47: FALSE | H47: FALSE | N47: =IF(F47+G47+H47>1,"Inserire una sola opzione!","") | O47: Congedo di maternità | P47: =IF(F47=TRUE,"1","0") -> 0 | Q47: =IF(G47=TRUE,"1","0") -> 0 | R47: =IF(H47=TRUE,"1","0") -> 0 | V47: Congedo di maternità | W47: =1*P47 -> 0 | X47: =1*Q47 -> 0 | Y47: =1*R47 -> 0
C48: Congedo di paternità | F48: FALSE | G48: FALSE | H48: FALSE | N48: =IF(F48+G48+H48>1,"Inserire una sola opzione!","") | O48: Congedo di paternità | P48: =IF(F48=TRUE,"1","0") -> 0 | Q48: =IF(G48=TRUE,"1","0") -> 0 | R48: =IF(H48=TRUE,"1","0") -> 0 | V48: Congedo di paternità | W48: =1*P48 -> 0 | X48: =1*Q48 -> 0 | Y48: =1*R48 -> 0
C49: Congedo parentale | F49: FALSE | G49: FALSE | H49: FALSE | N49: =IF(F49+G49+H49>1,"Inserire una sola opzione!","") | O49: Congedo parentale | P49: =IF(F49=TRUE,"1","0") -> 0 | Q49: =IF(G49=TRUE,"1","0") -> 0 | R49: =IF(H49=TRUE,"1","0") -> 0 | V49: Congedo parentale | W49: =1*P49 -> 0 | X49: =1*Q49 -> 0 | Y49: =1*R49 -> 0
C50: Orario lavorativo flessibile | F50: FALSE | G50: FALSE | H50: FALSE | N50: =IF(F50+G50+H50>1,"Inserire una sola opzione!","") | O50: Orario lavorativo flessibile | P50: =IF(F50=TRUE,"1","0") -> 0 | Q50: =IF(G50=TRUE,"1","0") -> 0 | R50: =IF(H50=TRUE,"1","0") -> 0 | V50: Orario lavorativo flessibile | W50: =1*P50 -> 0 | X50: =1*Q50 -> 0 | Y50: =1*R50 -> 0
C51: Smart working | F51: FALSE | G51: FALSE | H51: FALSE | N51: =IF(F51+G51+H51>1,"Inserire una sola opzione!","") | O51: Smart working | P51: =IF(F51=TRUE,"1","0") -> 0 | Q51: =IF(G51=TRUE,"1","0") -> 0 | R51: =IF(H51=TRUE,"1","0") -> 0 | V51: Smart working | W51: =1*P51 -> 0 | X51: =1*Q51 -> 0 | Y51: =1*R51 -> 0
A53: 5) Quanti dipendenti dell’azienda hanno meno di 40 anni?
N54: =IF(OR(F56="",H56=""),"VALORE MANCANTE! Inserire 0 se nessun dipendente o nessuna donna under 40","") -> VALORE MANCANTE! Inserire 0 se nessun dipendente o nessuna donna under 40
...

Sheet II. Gomma Plastica Cavi
C1: Indagine Confindustria sul lavoro del 2025
K6: FALSE
A8: A) INFORMAZIONI GENERALI SULL'IMPRESA
A10: A.1 Denominazione dell'impresa | F10: ='I. Questionario nazionale'!F15 -> 0 | N10: A.3 Partita IVA | P10: ='I. Questionario nazionale'!C19 -> 0
A12: A.7 Unità produttiva | N12: A.8 Lavorazioni | P12: 1.
P13: 2.
A14: A.9 Comparto produttivo | C14: Articoli in gomma | F14: FALSE | G14: Pneumatici | J14: FALSE | P14: 3.
C15: Manufatti in materiale plastico | F15: FALSE | G15: Cavi elettrici | J15: FALSE
C16: Altro (specificare) >>>
A20: H) SUDDIVISIONE PERSONALE PER CATEGORIA, PER GENERE, PER FASCE DI ETA' E TURNI PRATICATI
A22: H.1 Inquadramento dei lavoratori
C24: Dipendenti
C25: Uomini | D25: Donne
A26: Dirigenti
A27: Quadri e Impiegati | B27: F1
B28: E1
B29: D1
B30: C1
B31: B1
B32: A1
B33: Q
A34: Qualifiche speciali | B34: E2
B35: C2
A36: Operai | B36: I3
B37: H3
B38: G3
B39: F3
B40: E3
B41: D3
A42: Totale | C42: =SUM(C26:C41) -> 0 | D42: =SUM(D26:D41) -> 0
A44: H.2 Ripartizione addetti per fasce di età
C46: TOTALE
C47: Maschi | D47: Femmine
A48: Minori di anni 30
A49: Tra 30 e 50 anni
A50: Maggiori di anni 50
A51: TOTALE (da B.1) | B51: 0 | C51: ='I. Questionario nazionale'!H44 -> 0 | D51: ='I. Questionario nazionale'!J44 -> 0
A53: H.3 Turni praticati (1)
C55: cicli continui (3x7) | E55: 18 turni o più turni sett. (esc. 3x7) | G55: 17 turni sett. | I55: 15 o 16 turni sett. | J55: 2 turni 5 gg | K55: 10 turni sett. | M55: Altro | O55: Specificare
A57: Quadri e impiegati
...

Sheet db A-B
A2: DATABASE A-B | J2: Azienda plurilocalizzata: | L2: I dati si riferiscono a: | N2: Provincia della: | P2: Indeterminato full-time: | T2: Indeterminato part-time: | X2: TOTALE INDETERMINATO | AB2: Determinato full-time: | AF2: Determinato part-time: | AJ2: Inserimento: | AN2: Apprendistato: | AR2: TOTALE: | AV2: Indeterminato - Dirigenti: | BD2: Indeterminato - Quadri: | BL2: Indeterminato - Impiegati: | BT2: Indeterminato - Intermedi: | CB2: Indeterminato - Operai: | CJ2: Indeterminato - TOTALE: | CR2: Domanda B.3 - turnover | CW2: B.4 - somministrazione tempo determinato | CZ2: B.4 - somministrazione tempo indeterminato
A3: Codice Identificativo | B3: Versione questionario | C3: Persona a cui inviare la sintesi | D3: E-mail | E3: Impresa | F3: Associazione | G3: PIVA | H3: CCNL | I3: Ateco 2-digit | J3: No | K3: Sì | L3: Impresa a livello nazionale | M3: Unità locale | N3: Sede principale | O3: Unità locale | P3: 2023 Maschi | Q3: 2023 Femmine | R3: 2024 Maschi | S3: 2024 Femmine | T3: 2023 Maschi | U3: 2023 Femmine | V3: 2024 Maschi | W3: 2024 Femmine | X3: 2023 Maschi | Y3: 2023 Femmine | Z3: 2024 Maschi | AA3: 2024 Femmine | AB3: 2023 Maschi | AC3: 2023 Femmine | AD3: 2024 Maschi | AE3: 2024 Femmine | AF3: 2023 Maschi | AG3: 2023 Femmine | AH3: 2024 Maschi | AI3: 2024 Femmine | AJ3: 2012 Maschi | AK3: 2012 Femmine | AL3: 2014 Maschi | AM3: 2014 Femmine | AN3: 2023 Maschi | AO3: 2023 Femmine | AP3: 2024 Maschi | AQ3: 2024 Femmine | AR3: 2023 Maschi | AS3: 2023 Femmine | AT3: 2024 Maschi | AU3: 2024 Femmine | AV3: 2023 Maschi | AW3: 2023 M di cui part-time | AX3: 2023 Femmine | AY3: 2023 F di cui part-time | AZ3: 2024 Maschi | BA3: 2024 M di cui part-time | BB3: 2024 Femmine | BC3: 2024 F di cui part-time | BD3: 2023 Maschi | BE3: 2023 M di cui part-time | BF3: 2023 Femmine | BG3: 2023 F di cui part-time | BH3: 2024 Maschi | BI3: 2024 M di cui part-time | BJ3: 2024 Femmine | BK3: 2024 F di cui part-time | BL3: 2023 Maschi | BM3: 2023 M di cui part-time | BN3: 2023 Femmine | BO3: 2023 F di cui part-time | BP3: 2024 Maschi | BQ3: 2024 M di cui part-time | BR3: 2024 Femmine | BS3: 2024 F di cui part-time | BT3: 2023 Maschi | BU3: 2023 M di cui part-time | BV3: 2023 Femmine | BW3: 2023 F di cui part-time | BX3: 2024 Maschi | BY3: 2024 M di cui part-time | BZ3: 2024 Femmine | CA3: 2024 F di cui part-time | CB3: 2023 Maschi | CC3: 2023 M di cui part-time | CD3: 2023 Femmine | CE3: 2023 F di cui part-time | CF3: 2024 Maschi | CG3: 2024 M di cui part-time | CH3: 2024 Femmine | CI3: 2024 F di cui part-time | CJ3: 2023 Maschi | CK3: 2023 M di cui part-time | CL3: 2023 Femmine | CM3: 2023 F di cui part-time | CN3: 2024 Maschi | CO3: 2024 M di cui part-time | CP3: 2024 Femmine | CQ3: 2024 F di cui part-time | CR3: Assunti 2024 | CS3: Cessati 2024 | CT3: Cessati per dimissioni 2024 | CU3: Cessati per uscita incentivata | CV3: Tasso di turnover 2024 | CW3: No | CX3: Sì | CY3: Quanti | CZ3: No | DA3: Sì | DB3: Quanti
AJ4: B17 | AK4: B18 | AL4: B19 | AM4: B20
A5: 0 | B5: ='I. Questionario nazionale'!A13 -> 9 | C5: =IF('I. Questionario nazionale'!D8="","",UPPER('I. Questionario nazionale'!D8)) | D5: =IF('I. Questionario nazionale'!B10="","",LOWER('I. Questionario nazionale'!B10)) | E5: =IF('I. Questionario nazionale'!F15="","",UPPER('I. Questionario nazionale'!F15)) | F5: =IF('I. Questionario nazionale'!F17="","",UPPER('I. Questionario nazionale'!F17)) -> ASSOLOMBARDA | G5: =IF('I. Questionario nazionale'!C19="","",'I. Questionario nazionale'!C19) | H5: ='I. Questionario nazionale'!N19 -> 0 | I5: ='I. Questionario nazionale'!N21 -> 0 | J5: ='I. Questionario nazionale'!P23 -> 0 | K5: ='I. Questionario nazionale'!Q23 -> 0 | L5: ='I. Questionario nazionale'!P27 -> 0 | M5: ='I. Questionario nazionale'!P29 -> 0 | N5: ='I. Questionario nazionale'!O27 -> 0 | O5: ='I. Questionario nazionale'!O29 -> 0 | P5: ='I. Questionario nazionale'!D38 -> 0 | Q5: ='I. Questionario nazionale'!F38 -> 0 | R5: ='I. Questionario nazionale'!H38 -> 0 | S5: ='I. Questionario nazionale'!J38 -> 0 | T5: ='I. Questionario nazionale'!D39 -> 0 | U5: =+'I. Questionario nazionale'!F39 -> 0 | V5: =+'I. Questionario nazionale'!H39 -> 0 | W5: =+'I. Questionario nazionale'!J39 -> 0 | X5: ='I. Questionario nazionale'!D40 -> 0 | Y5: ='I. Questionario nazionale'!F40 -> 0 | Z5: ='I. Questionario nazionale'!H40 -> 0 | AA5: ='I. Questionario nazionale'!J40 -> 0 | AB5: ='I. Questionario nazionale'!D41 -> 0 | AC5: =+'I. Questionario nazionale'!F41 -> 0 | AD5: =+'I. Questionario nazionale'!H41 -> 0 | AE5: =+'I. Questionario nazionale'!J41 -> 0 | AF5: ='I. Questionario nazionale'!D42 -> 0 | AG5: =+'I. Questionario nazionale'!F42 -> 0 | AH5: ='I. Questionario nazionale'!H42 -> 0 | AI5: =+'I. Questionario nazionale'!J42 -> 0 | AJ5: 0 | AK5: 0 | AL5: 0 | AM5: 0 | AN5: =+'I. Questionario nazionale'!D43 -> 0 | AO5: =+'I. Questionario nazionale'!F43 -> 0 | AP5: =+'I. Questionario nazionale'!H43 -> 0 | AQ5: =+'I. Questionario nazionale'!J43 -> 0 | AR5: =+'I. Questionario nazionale'!D44 -> 0 | AS5: =+'I. Questionario nazionale'!F44 -> 0 | AT5: =+'I. Questionario nazionale'!H44 -> 0 | AU5: =+'I. Questionario nazionale'!J44 -> 0 | AV5: =+'I. Questionario nazionale'!D52 -> 0 | AW5: =+'I. Questionario nazionale'!E52 -> 0 | AX5: =+'I. Questionario nazionale'!F52 -> 0 | AY5: =+'I. Questionario nazionale'!G52 -> 0 | AZ5: =+'I. Questionario nazionale'!H52 -> 0 | BA5: =+'I. Questionario nazionale'!I52 -> 0 | BB5: =+'I. Questionario nazionale'!J52 -> 0 | BC5: =+'I. Questionario nazionale'!K52 -> 0 | BD5: =+'I. Questionario nazionale'!D53 -> 0 | BE5: =+'I. Questionario nazionale'!E53 -> 0 | BF5: =+'I. Questionario nazionale'!F53 -> 0 | BG5: =+'I. Questionario nazionale'!G53 -> 0 | BH5: =+'I. Questionario nazionale'!H53 -> 0 | BI5: =+'I. Questionario nazionale'!I53 -> 0 | BJ5: =+'I. Questionario nazionale'!J53 -> 0 | BK5: =+'I. Questionario nazionale'!K53 -> 0 | BL5: =+'I. Questionario nazionale'!D54 -> 0 | BM5: =+'I. Questionario nazionale'!E54 -> 0 | BN5: =+'I. Questionario nazionale'!F54 -> 0 | BO5: =+'I. Questionario nazionale'!G54 -> 0 | BP5: =+'I. Questionario nazionale'!H54 -> 0 | BQ5: =+'I. Questionario nazionale'!I54 -> 0 | BR5: =+'I. Questionario nazionale'!J54 -> 0 | BS5: =+'I. Questionario nazionale'!K54 -> 0 | BT5: =+'I. Questionario nazionale'!D55 -> 0 | BU5: =+'I. Questionario nazionale'!E55 -> 0 | BV5: =+'I. Questionario nazionale'!F55 -> 0 | BW5: =+'I. Questionario nazionale'!G55 -> 0 | BX5: =+'I. Questionario nazionale'!H55 -> 0 | BY5: =+'I. Questionario nazionale'!I55 -> 0 | BZ5: =+'I. Questionario nazionale'!J55 -> 0 | CA5: =+'I. Questionario nazionale'!K55 -> 0 | CB5: =+'I. Questionario nazionale'!D56 -> 0 | CC5: =+'I. Questionario nazionale'!E56 -> 0 | CD5: =+'I. Questionario nazionale'!F56 -> 0 | CE5: =+'I. Questionario nazionale'!G56 -> 0 | CF5: =+'I. Questionario nazionale'!H56 -> 0 | CG5: =+'I. Questionario nazionale'!I56 -> 0 | CH5: =+'I. Questionario nazionale'!J56 -> 0 | CI5: =+'I. Questionario nazionale'!K56 -> 0 | CJ5: =+'I. Questionario nazionale'!D57 -> 0 | CK5: =+'I. Questionario nazionale'!E57 -> 0 | CL5: =+'I. Questionario nazionale'!F57 -> 0 | CM5: =+'I. Questionario nazionale'!G57 -> 0 | CN5: =+'I. Questionario nazionale'!H57 -> 0 | CO5: =+'I. Questionario nazionale'!I57 -> 0 | CP5: =+'I. Questionario nazionale'!J57 -> 0 | CQ5: =+'I. Questionario nazionale'!K57 -> 0 | CR5: ='I. Questionario nazionale'!I61 -> 0 | CS5: ='I. Questionario nazionale'!I63 -> 0 | CT5: ='I. Questionario nazionale'!I65 -> 0 | CU5: ='I. Questionario nazionale'!I66 -> 0 | CV5: ='I. Questionario nazionale'!I68 | CW5: ='I. Questionario nazionale'!P73 -> 0 | CX5: ='I. Questionario nazionale'!Q73 -> 0 | CY5: ='I. Questionario nazionale'!F73 -> 0 | CZ5: ='I. Questionario nazionale'!P76 -> 0 | DA5: ='I. Questionario nazionale'!Q76 -> 0 | DB5: ='I. Questionario nazionale'!F76 -> 0
A6: 0

Sheet db A-C
A2: DATABASE A-C | H2: Azienda plurilocalizzata: | J2: I dati si riferiscono a: | L2: Provincia della: | N2: Ferie: (giorni medi pro-capite) | P2: Ore di lavoro: (settimanali pro-capite) | R2: Pause retribuite: (minuti settimanali pro-capite) | U2: Quadri: (Indeterminato, numero medio) | W2: Impiegati/Intermedi: (Indeterminato, numero medio) | Y2: Operai: (Indeterminato, numero medio) | AA2: Infortuni per lavoro e malattie professionali | AG2: Malattie non professionali | AM2: di cui: per carenza | AS2: Congedi retribuiti | AY2: Permessi 104 | BE2: Altri permessi retribuiti | BK2: Altre assenze non retribuite | BQ2: Assenze per sciopero | BW2: CIG + FIS | CC2: ORE DI LAVORO STRAORDINARIO
A3: Codice Identificativo | B3: Versione questionario | C3: Impresa | D3: Associazione | E3: PIVA | F3: CCNL | G3: Ateco 2-digit | H3: No | I3: Sì | J3: Impresa a livello nazionale | K3: Unità locale | L3: Sede principale | M3: Unità locale | N3: Quadri/ Impiegati/Intermedi | O3: Operai | P3: Quadri/ Impiegati/Intermedi | Q3: Operai | R3: Quadri/ Impiegati/Intermedi | S3: Operai | T3: I dati si riferiscono a: | U3: Maschi | V3: Femmine | W3: Maschi | X3: Femmine | Y3: Maschi | Z3: Femmine | AA3: Quadri Maschi | AB3: Quadri Femmine | AC3: Impiegati/Intermedi Maschi | AD3: Impiegati/Intermedi Femmine | AE3: Operai Maschi | AF3: Operai Femmine | AG3: Quadri Maschi | AH3: Quadri Femmine | AI3: Impiegati/Intermedi Maschi | AJ3: Impiegati/Intermedi Femmine | AK3: Operai Maschi | AL3: Operai Femmine | AM3: Quadri Maschi | AN3: Quadri Femmine | AO3: Impiegati/Intermedi Maschi | AP3: Impiegati/Intermedi Femmine | AQ3: Operai Maschi | AR3: Operai Femmine | AS3: Quadri Maschi | AT3: Quadri Femmine | AU3: Impiegati/Intermedi Maschi | AV3: Impiegati/Intermedi Femmine | AW3: Operai Maschi | AX3: Operai Femmine | AY3: Quadri Maschi | AZ3: Quadri Femmine | BA3: Impiegati/Intermedi Maschi | BB3: Impiegati/Intermedi Femmine | BC3: Operai Maschi | BD3: Operai Femmine | BE3: Quadri Maschi | BF3: Quadri Femmine | BG3: Impiegati/Intermedi Maschi | BH3: Impiegati/Intermedi Femmine | BI3: Operai Maschi | BJ3: Operai Femmine | BK3: Quadri Maschi | BL3: Quadri Femmine | BM3: Impiegati/Intermedi Maschi | BN3: Impiegati/Intermedi Femmine | BO3: Operai Maschi | BP3: Operai Femmine | BQ3: Quadri Maschi | BR3: Quadri Femmine | BS3: Impiegati/Intermedi Maschi | BT3: Impiegati/Intermedi Femmine | BU3: Operai Maschi | BV3: Operai Femmine | BW3: Quadri Maschi | BX3: Quadri Femmine | BY3: Impiegati/Intermedi Maschi | BZ3: Impiegati/Intermedi Femmine | CA3: Operai Maschi | CB3: Operai Femmine | CC3: Impiegati/Intermedi Maschi | CD3: Impiegati/Intermedi Femmine | CE3: Operai Maschi | CF3: Operai Femmine
A4: COD | C4: A1 | D4: A2 | E4: A3 | F4: A4 | H4: A5 | I4: A6 | J4: A9 | K4: A10 | L4: A11 | M4: A12 | N4: C1 | O4: C2 | P4: C3 | Q4: C4 | R4: C5 | S4: C6 | T4: C9 | U4: C10 | V4: C11 | W4: C12 | X4: C13 | Y4: C14 | Z4: C15 | AG4: C16 | AH4: C17 | AI4: C18 | AJ4: C19 | AK4: C20 | AL4: C21 | AS4: C34 | AT4: C35 | AU4: C36 | AV4: C37 | AW4: C38 | AX4: C39 | AY4: C40 | AZ4: C41 | BA4: C42 | BB4: C43 | BC4: C44 | BD4: C45 | BE4: C46 | BF4: C47 | BG4: C48 | BH4: C49 | BI4: C50 | BJ4: C51 | BK4: C52 | BL4: C53 | BM4: C54 | BN4: C55 | BO4: C56 | BP4: C57 | BW4: C68 | BX4: C69 | BY4: C70 | BZ4: C71 | CA4: C72 | CB4: C73 | CC4: C70 | CD4: C71 | CE4: C72 | CF4: C73
A5: 0 | B5: ='I. Questionario nazionale'!A13 -> 9 | C5: =IF('I. Questionario nazionale'!F15="","",UPPER('I. Questionario nazionale'!F15)) | D5: =IF('I. Questionario nazionale'!F17="","",UPPER('I. Questionario nazionale'!F17)) -> ASSOLOMBARDA | E5: =IF('I. Questionario nazionale'!C19="","",'I. Questionario nazionale'!C19) | F5: ='I. Questionario nazionale'!N19 -> 0 | G5: ='I. Questionario nazionale'!N21 -> 0 | H5: ='I. Questionario nazionale'!P23 -> 0 | I5: ='I. Questionario nazionale'!Q23 -> 0 | J5: ='I. Questionario nazionale'!P27 -> 0 | K5: ='I. Questionario nazionale'!P29 -> 0 | L5: ='I. Questionario nazionale'!O27 -> 0 | M5: ='I. Questionario nazionale'!O29 -> 0 | N5: ='I. Questionario nazionale'!H92 -> 0 | O5: ='I. Questionario nazionale'!J92 -> 0 | P5: ='I. Questionario nazionale'!H94 -> 0 | Q5: ='I. Questionario nazionale'!J94 -> 0 | R5: ='I. Questionario nazionale'!H96 -> 0 | S5: ='I. Questionario nazionale'!J96 -> 0 | T5: ='I. Questionario nazionale'!F101 -> …........................................................................... | U5: ='I. Questionario nazionale'!F104 -> 0 | V5: ='I. Questionario nazionale'!G104 -> 0 | W5: ='I. Questionario nazionale'!H104 -> 0 | X5: ='I. Questionario nazionale'!I104 -> 0 | Y5: ='I. Questionario nazionale'!J104 -> 0 | Z5: ='I. Questionario nazionale'!K104 -> 0 | AA5: ='I. Questionario nazionale'!F105 -> 0 | AB5: ='I. Questionario nazionale'!G105 -> 0 | AC5: ='I. Questionario nazionale'!H105 -> 0 | AD5: ='I. Questionario nazionale'!I105 -> 0 | AE5: ='I. Questionario nazionale'!J105 -> 0 | AF5: ='I. Questionario nazionale'!K105 -> 0 | AG5: ='I. Questionario nazionale'!F106 -> 0 | AH5: =+'I. Questionario nazionale'!G106 -> 0 | AI5: =+'I. Questionario nazionale'!H106 -> 0 | AJ5: =+'I. Questionario nazionale'!I106 -> 0 | AK5: =+'I. Questionario nazionale'!J106 -> 0 | AL5: =+'I. Questionario nazionale'!K106 -> 0 | AM5: ='I. Questionario nazionale'!F107 -> 0 | AN5: ='I. Questionario nazionale'!G107 -> 0 | AO5: ='I. Questionario nazionale'!H107 -> 0 | AP5: ='I. Questionario nazionale'!I107 -> 0 | AQ5: ='I. Questionario nazionale'!J107 -> 0 | AR5: ='I. Questionario nazionale'!K107 -> 0 | AS5: =+'I. Questionario nazionale'!F109 -> 0 | AT5: =+'I. Questionario nazionale'!G109 -> 0 | AU5: =+'I. Questionario nazionale'!H109 -> 0 | AV5: =+'I. Questionario nazionale'!I109 -> 0 | AW5: =+'I. Questionario nazionale'!J109 -> 0 | AX5: =+'I. Questionario nazionale'!K109 -> 0 | AY5: =+'I. Questionario nazionale'!F110 -> 0 | AZ5: =+'I. Questionario nazionale'!G110 -> 0 | BA5: =+'I. Questionario nazionale'!H110 -> 0 | BB5: =+'I. Questionario nazionale'!I110 -> 0 | BC5: =+'I. Questionario nazionale'!J110 -> 0 | BD5: =+'I. Questionario nazionale'!K110 -> 0 | BE5: =+'I. Questionario nazionale'!F112 -> 0 | BF5: =+'I. Questionario nazionale'!G112 -> 0 | BG5: =+'I. Questionario nazionale'!H112 -> 0 | BH5: =+'I. Questionario nazionale'!I112 -> 0 | BI5: =+'I. Questionario nazionale'!J112 -> 0 | BJ5: =+'I. Questionario nazionale'!K112 -> 0 | BK5: =+'I. Questionario nazionale'!F113 -> 0 | BL5: =+'I. Questionario nazionale'!G113 -> 0 | BM5: =+'I. Questionario nazionale'!H113 -> 0 | BN5: =+'I. Questionario nazionale'!I113 -> 0 | BO5: =+'I. Questionario nazionale'!J113 -> 0 | BP5: =+'I. Questionario nazionale'!K113 -> 0 | BQ5: =+'I. Questionario nazionale'!F114 -> 0 | BR5: =+'I. Questionario nazionale'!G114 -> 0 | BS5: =+'I. Questionario nazionale'!H114 -> 0 | BT5: =+'I. Questionario nazionale'!I114 -> 0 | BU5: =+'I. Questionario nazionale'!J114 -> 0 | BV5: =+'I. Questionario nazionale'!K114 -> 0 | BW5: =+'I. Questionario nazionale'!F117 -> 0 | BX5: =+'I. Questionario nazionale'!G117 -> 0 | BY5: =+'I. Questionario nazionale'!H117 -> 0 | BZ5: =+'I. Questionario nazionale'!I117 -> 0 | CA5: =+'I. Questionario nazionale'!J117 -> 0 | CB5: =+'I. Questionario nazionale'!K117 -> 0 | CC5: =+'I. Questionario nazionale'!H119 -> 0 | CD5: =+'I. Questionario nazionale'!I119 -> 0 | CE5: =+'I. Questionario nazionale'!J119 -> 0 | CF5: =+'I. Questionario nazionale'!K119 -> 0
A6: 0

Sheet db A-DF
N1: D) LAVORO AGILE / SMART WORKING | W1: E) CAPITALE UMANO | BN1: E7. Quali effetti dall’introduzione dell’Intelligenza Artificiale nella sua azienda? Per ognuno, mi dica se l’ha già riscontrato o se lo prevede come effetto futuro | CF1: F) POLITICHE AZIENDALI
A2: DATABASE A-DF | H2: Azienda plurilocalizzata: | J2: I dati si riferiscono a: | L2: Provincia della: | N2: D.1 Lavoro agile utilizzato prima del Covid | P2: D.2 Lavoro agile nel 2024 | R2: D.3 Numero dipendenti coinvolti | W2: E.1 Difficoltà reperimento | AD2: E.2 Azioni intraprese | AK2: E.2-bis A che livello l'azienda è stata coinvolta in programmi educativi? | AP2: E.3 L'azienda ha integrato l'Intelligenza Artificiale nei propri processi? | AS2: E.4 Lato capitale umano, quali azioni ha intrapreso l’azienda per integrare l’IA nei propri processi o per valutarne l’integrazione? (possibili più risposte) | AX2: E.5 Quali sono gli ambiti aziendali in cui state implementando l’uso di soluzioni di Intelligenza Artificiale? (possibili più risposte) | BG2: E6. Quali sono le principali difficoltà che avete incontrato nell’adozione di soluzioni di Intelligenza Artificiale? | BN2: Automazione delle attività ripetitive | BQ2: Riduzione dei costi | BT2: Miglioramento della qualità e/o maggiore personalizzazione dei prodotti/servizi offerti | BW2: Innovazione e creatività | BZ2: Riduzione del personale | CC2: Altri effetti | CF2: F.1 Contratto aziendale ATTUALMENTE applicato | CH2: Contenuti | CU2: F.2 Iniziative di welfare | CW2: F.3 Premi variabili collettivi erogati nel 2023 | CY2: F.4 Incidenza media dei premi | DA2: F.5 N. lavoratori (tempo indet.) che hanno convertito premio in welfare e percentuale premio
A3: Codice Identificativo | B3: Versione questionario | C3: Impresa | D3: Associazione | E3: PIVA | F3: CCNL | G3: Ateco 2-digit | H3: No | I3: Sì | J3: Impresa a livello nazionale | K3: Unità locale | L3: Sede principale | M3: Unità locale | N3: No | O3: Sì | P3: No | Q3: Sì | R3: Fino a 1 giorno alla settimana (o fino a 4 giorni al mese) | S3: Fino a 2 giorni alla settimana (o fino a 8 giorni al mese) | T3: 3 o più giorni alla settimana (12 o più giorni al mese) | U3: TOTALE dipendenti coinvolti | V3: sul totale di | W3: No ricerche | X3: No | Y3: Sì, per competenze trasversali (cd. soft skills) | Z3: Sì, per competenze manageriali | AA3: Sì, per competenze tecniche | AB3: Sì, per competenze digitali | AC3: Sì, per mansioni manuali (es. operai, turnisti) | AD3: Nessuna | AE3: Formazione al personale oltre obbligatoria | AF3: Ricorso a servizi esterni | AG3: Coinvolgimento in programmi educativi (ITS, PCTO, …) | AH3: Allargamento bacino di ricerca | AI3: Inserimento personale da altri Paesi | AJ3: Partecipazione a partenariati pubblico-privati | AK3: Scuole primarie / secondarie di primo grado | AL3: Scuole secondarie di secondo grado e/o IeFP | AM3: ITS Academy (per governance, didattica, tirocini, visite aziendali) | AN3: Università (per didattica, ricerca, terzamissione, placement) | AO3: Altro (specificare) | AP3: No, non siamo interessati a utilizzarla | AQ3: Non ancora, ma stiamo valutando l'adozione di soluzioni di Intelligenza Artificiale | AR3: Sì, abbiamo adottato e utilizziamo regolarmente strumenti di Intelligenza Artificiale nelle attività aziendali o ne stiamo sperimentando l'adozione | AS3: Nessuna azione specifica | AT3: Ricerca e assunzione di personale con competenze specifiche in ambito IA | AU3: Formazione del personale interno per sviluppare competenze sull’uso dell’IA | AV3: Ricorso a consulenti o fornitori esterni per l’adozione dell’IA | AW3: Altro (specificare) | AX3: Automazione dei processi produttivi (es. robotica) | AY3: Controllo qualità | AZ3: Manutenzione predittiva | BA3: Analisi e gestione dei dati aziendali (es. forecasting vendite, analisi dati interni) | BB3: Marketing e personalizzazione dell’offerta (es. profilazione clienti) | BC3: Servizio clienti (chatbot, assistenti virtuali) | BD3: Gestione delle risorse umane (es. selezione, formazione, valutazione) | BE3: Ricerca e sviluppo | BF3: Altro (specificare) | BG3: Mancanza di informazioni chiare sulle opportunità offerte dall’IA | BH3: Mancanza di competenze interne | BI3: Resistenza al cambiamento da parte del personale | BJ3: Costi elevati delle tecnologie o dei servizi | BK3: Complessità tecnica nell’integrazione dei sistemi | BL3: Sicurezza e privacy dei dati | BM3: Altro (specificare) | BN3: Già visibile | BO3: Atteso in futuro | BP3: Né già riscontrato né atteso in futuro | BQ3: Già visibile | BR3: Atteso in futuro | BS3: Né già riscontrato né atteso in futuro | BT3: Già visibile | BU3: Atteso in futuro | BV3: Né già riscontrato né atteso in futuro | BW3: Già visibile | BX3: Atteso in futuro | BY3: Né già riscontrato né atteso in futuro | BZ3: Già visibile | CA3: Atteso in futuro | CB3: Né già riscontrato né atteso in futuro | CC3: Altro (specificare) | CD3: Già visibile (rif. Altro) | CE3: Atteso in futuro (rif. Altro) | CF3: No | CG3: Sì | CH3: Premi di risultato collettivi | CI3: Welfare aggiuntivo rispetto a CCNL o regolamento | CJ3: Conversione premi in welfare | CK3: Orario di lavoro | CL3: Conciliazione vita-lavoro | CM3: Lavoro agile | CN3: "Causali contrattuali" | CO3: Formazione aggiuntiva rispetto a CCNL o legge | CP3: Partecipazione agli utili | CQ3: Coinvolgimento paritetico | CR3: Protocolli sicurezza | CS3: Invecchiamento attivo | CT3: Altro: specificare | CU3: No | CV3: Sì | CW3: No | CX3: Sì | CY3: Op.-Imp.-Int- | CZ3: Quadri | DA3: N. Op.-Imp.-Int- | DB3: % premio Op.-Imp.-Int- | DC3: N. Quadri | DD3: % premio Quadri
A5: 0 | B5: ='I. Questionario nazionale'!A13 -> 9 | C5: =IF('I. Questionario nazionale'!F15="","",UPPER('I. Questionario nazionale'!F15)) | D5: =IF('I. Questionario nazionale'!F17="","",UPPER('I. Questionario nazionale'!F17)) -> ASSOLOMBARDA | E5: =IF('I. Questionario nazionale'!C19="","",'I. Questionario nazionale'!C19) | F5: ='I. Questionario nazionale'!N19 -> 0 | G5: ='I. Questionario nazionale'!N21 -> 0 | H5: ='I. Questionario nazionale'!P23 -> 0 | I5: ='I. Questionario nazionale'!Q23 -> 0 | J5: ='I. Questionario nazionale'!P27 -> 0 | K5: ='I. Questionario nazionale'!P29 -> 0 | L5: ='I. Questionario nazionale'!O27 -> 0 | M5: ='I. Questionario nazionale'!O29 -> 0 | N5: ='I. Questionario nazionale'!P136 -> 0 | O5: ='I. Questionario nazionale'!P137 -> 0 | P5: ='I. Questionario nazionale'!P140 -> 0 | Q5: ='I. Questionario nazionale'!P141 -> 0 | R5: ='I. Questionario nazionale'!F144 -> 0 | S5: ='I. Questionario nazionale'!F145 -> 0 | T5: ='I. Questionario nazionale'!F146 -> 0 | U5: ='I. Questionario nazionale'!F147 -> 0 | V5: ='I. Questionario nazionale'!H147 -> 0 | W5: ='I. Questionario nazionale'!P161 -> 0 | X5: ='I. Questionario nazionale'!P162 -> 0 | Y5: ='I. Questionario nazionale'!P163 -> 0 | Z5: ='I. Questionario nazionale'!P164 -> 0 | AA5: ='I. Questionario nazionale'!P165 -> 0 | AB5: ='I. Questionario nazionale'!P166 -> 0 | AC5: ='I. Questionario nazionale'!P167 -> 0 | AD5: ='I. Questionario nazionale'!P170 -> 0 | AE5: ='I. Questionario nazionale'!P171 -> 0 | AF5: ='I. Questionario nazionale'!P172 -> 0 | AG5: ='I. Questionario nazionale'!P173 -> 0 | AH5: ='I. Questionario nazionale'!P174 -> 0 | AI5: ='I. Questionario nazionale'!P175 -> 0 | AJ5: ='I. Questionario nazionale'!P176 -> 0 | AK5: ='I. Questionario nazionale'!P179 -> 0 | AL5: ='I. Questionario nazionale'!P180 -> 0 | AM5: ='I. Questionario nazionale'!P181 -> 0 | AN5: ='I. Questionario nazionale'!P182 -> 0 | AO5: ='I. Questionario nazionale'!E183 -> ……............................................. | AP5: ='I. Questionario nazionale'!P189 -> 0 | AQ5: ='I. Questionario nazionale'!P190 -> 0 | AR5: ='I. Questionario nazionale'!P191 -> 0 | AS5: ='I. Questionario nazionale'!P194 -> 0 | AT5: ='I. Questionario nazionale'!P195 -> 0 | AU5: ='I. Questionario nazionale'!P196 -> 0 | AV5: ='I. Questionario nazionale'!P197 -> 0 | AW5: ='I. Questionario nazionale'!E198 -> ……............................................. | AX5: ='I. Questionario nazionale'!P201 -> 0 | AY5: ='I. Questionario nazionale'!P202 -> 0 | AZ5: ='I. Questionario nazionale'!P203 -> 0 | BA5: ='I. Questionario nazionale'!P204 -> 0 | BB5: ='I. Questionario nazionale'!P205 -> 0 | BC5: ='I. Questionario nazionale'!P206 -> 0 | BD5: ='I. Questionario nazionale'!P207 -> 0 | BE5: ='I. Questionario nazionale'!P208 -> 0 | BF5: ='I. Questionario nazionale'!E209 -> ……............................................. | BG5: ='I. Questionario nazionale'!P212 -> 0 | BH5: ='I. Questionario nazionale'!P213 -> 0 | BI5: ='I. Questionario nazionale'!P214 -> 0 | BJ5: ='I. Questionario nazionale'!P215 -> 0 | BK5: ='I. Questionario nazionale'!P216 -> 0 | BL5: ='I. Questionario nazionale'!P217 -> 0 | BM5: ='I. Questionario nazionale'!E218 -> ……............................................. | BN5: ='I. Questionario nazionale'!O223 -> 0 | BO5: ='I. Questionario nazionale'!Q223 -> 0 | BP5: ='I. Questionario nazionale'!S223 -> 0 | BQ5: ='I. Questionario nazionale'!O224 -> 0 | BR5: ='I. Questionario nazionale'!Q224 -> 0 | BS5: ='I. Questionario nazionale'!S224 -> 0 | BT5: ='I. Questionario nazionale'!O225 -> 0 | BU5: ='I. Questionario nazionale'!Q225 -> 0 | BV5: ='I. Questionario nazionale'!S225 -> 0 | BW5: ='I. Questionario nazionale'!O226 -> 0 | BX5: ='I. Questionario nazionale'!Q226 -> 0 | BY5: ='I. Questionario nazionale'!S226 -> 0 | BZ5: ='I. Questionario nazionale'!O227 -> 0 | CA5: ='I. Questionario nazionale'!Q227 -> 0 | CB5: ='I. Questionario nazionale'!S227 -> 0 | CC5: ='I. Questionario nazionale'!C228 -> ...................................... | CD5: ='I. Questionario nazionale'!O228 -> 0 | CE5: ='I. Questionario nazionale'!Q228 -> 0 | CF5: ='I. Questionario nazionale'!P241 -> 0 | CG5: ='I. Questionario nazionale'!Q241 -> 0 | CH5: ='I. Questionario nazionale'!P246 -> 0 | CI5: ='I. Questionario nazionale'!P247 -> 0 | CJ5: ='I. Questionario nazionale'!P248 -> 0 | CK5: ='I. Questionario nazionale'!P249 -> 0 | CL5: ='I. Questionario nazionale'!P250 -> 0 | CM5: ='I. Questionario nazionale'!P251 -> 0 | CN5: ='I. Questionario nazionale'!P252 -> 0 | CO5: ='I. Questionario nazionale'!P253 -> 0 | CP5: ='I. Questionario nazionale'!P254 -> 0 | CQ5: ='I. Questionario nazionale'!P255 -> 0 | CR5: ='I. Questionario nazionale'!P256 -> 0 | CS5: ='I. Questionario nazionale'!P257 -> 0 | CT5: ='I. Questionario nazionale'!E258 -> ……............................................. | CU5: ='I. Questionario nazionale'!P260 -> 0 | CV5: ='I. Questionario nazionale'!Q260 -> 0 | CW5: ='I. Questionario nazionale'!P264 -> 0 | CX5: ='I. Questionario nazionale'!Q264 -> 0 | CY5: ='I. Questionario nazionale'!F269 -> % | CZ5: ='I. Questionario nazionale'!F270 -> % | DA5: ='I. Questionario nazionale'!F276 -> 0 | DB5: ='I. Questionario nazionale'!G276 -> 0 | DC5: ='I. Questionario nazionale'!F277 -> 0 | DD5: ='I. Questionario nazionale'!G277 -> 0
A6: 0

Sheet db A-G
N1: G) POLITICHE RETRIBUTIVE | P1: G.2 Quali criteri vengono utilizzati per aumentare la RAL (Retribuzione Annua Lorda)? | BZ1: G.6 Indicare la retribuzione d'ingresso per neolaureati alla prima esperienza di lavoro distinguendo la laurea triennale dalla magistrale e quest'ultima per indirizzi generali
A2: DATABASE A-G | H2: Azienda plurilocalizzata: | J2: I dati si riferiscono a: | L2: Provincia della: | N2: G.1 L'impresa ha una struttura di politica retributiva formalizzata? | P2: Nessun criterio | T2: Obiettivi aziendali | X2: Obiettivi individuali | AB2: Job evaluation/Classificazione dei ruoli | AF2: Posizionamento rispetto al mercato di riferimento | AJ2: Anzianità di servizio | AN2: Tasso di inflazione | AR2: Altro | AV2: G.3 Quale prevede sarà, nel 2024, l'incremento medio della RAL (Retribuzione Annua Lorda) per ciascuna categoria di dipendenti? | BB2: G.4 L'impresa riconosce un premio variabile? | BF2: G.5 Quali sono gli indicatori (di produttività, redditività, efficienza, qualità o innovazione) sulla base dei quali vengono erogati i premi variabili? | BZ2: Triennale | CA2: Magistrale | CD2: G.7 Qual è indicativamente la percentuale di incremento dopo il primo anno? | CE2: G.8 Nel 2024 l'azienda ha avuto stagisti? | CG2: G.8 Se sì, con quale rimborso mensile medio in caso di tirocini extracurriculari?
A3: Codice Identificativo | B3: Versione questionario | C3: Impresa | D3: Associazione | E3: PIVA | F3: CCNL | G3: Ateco 2-digit | H3: No | I3: Sì | J3: Impresa a livello nazionale | K3: Unità locale | L3: Sede principale | M3: Unità locale | N3: No | O3: Sì | P3: Dirigenti | Q3: Quadri | R3: Impiegati | S3: Operai/intermedi | T3: Dirigenti | U3: Quadri | V3: Impiegati | W3: Operai/intermedi | X3: Dirigenti | Y3: Quadri | Z3: Impiegati | AA3: Operai/intermedi | AB3: Dirigenti | AC3: Quadri | AD3: Impiegati | AE3: Operai/intermedi | AF3: Dirigenti | AG3: Quadri | AH3: Impiegati | AI3: Operai/intermedi | AJ3: Dirigenti | AK3: Quadri | AL3: Impiegati | AM3: Operai/intermedi | AN3: Dirigenti | AO3: Quadri | AP3: Impiegati | AQ3: Operai/intermedi | AR3: Dirigenti | AS3: Quadri | AT3: Impiegati | AU3: Operai/intermedi | AV3: Dirigenti | AW3: Quadri | AX3: Impiegati | AY3: Operai/intermedi | AZ3: Media Ponderata | BA3: Media azienda | BB3: no | BC3: sì, solo premi variabili individuali | BD3: sì, solo premi variabili collettivi | BE3: sì, sia premi variabili collettivi che individuali | BF3: Volume della produzione/n. dipendenti | BG3: Fatturato o VA di bilancio/n. dipendenti | BH3: MOL/VA di bilancio | BI3: Indici di soddisfazione del cliente | BJ3: Diminuzione n. riparazioni, rilavorazioni | BK3: Riduzione degli scarti di lavorazione | BL3: Percentuale di rispetto dei tempi di consegna | BM3: Rispetto previsioni di avanzamento lavori | BN3: Modifiche organizzazione del lavoro | BO3: Lavoro agile (smart working) | BP3: Modifiche ai regimi di orario | BQ3: Rapporto costi effettivi/costi previsti | BR3: Riduzione assenteismo | BS3: Numero brevetti depositati | BT3: Riduzione tempi sviluppo nuovi prodotti | BU3: Riduzione dei consumi energetici | BV3: Riduzione numero infortuni | BW3: Riduzione tempi di attraversamento interni lavorazione | BX3: Riduzione tempi di commessa | BY3: Altro (specificare) | CA3: Umanistica (lettere, filosofia, ecc.) | CB3: Economico-giuridiche (Economia e commercio, Giurisprudenza, ecc.) | CC3: Tecnico-Scientifiche (Ingegneria, Matematica, ecc.) | CE3: No | CF3: Sì
A5: 0 | B5: ='I. Questionario nazionale'!A13 -> 9 | C5: =IF('I. Questionario nazionale'!F15="","",UPPER('I. Questionario nazionale'!F15)) | D5: =IF('I. Questionario nazionale'!F17="","",UPPER('I. Questionario nazionale'!F17)) -> ASSOLOMBARDA | E5: =IF('I. Questionario nazionale'!C19="","",'I. Questionario nazionale'!C19) | F5: ='I. Questionario nazionale'!N19 -> 0 | G5: ='I. Questionario nazionale'!N21 -> 0 | H5: ='I. Questionario nazionale'!P23 -> 0 | I5: ='I. Questionario nazionale'!Q23 -> 0 | J5: ='I. Questionario nazionale'!P27 -> 0 | K5: ='I. Questionario nazionale'!P29 -> 0 | L5: ='I. Questionario nazionale'!O27 -> 0 | M5: ='I. Questionario nazionale'!O29 -> 0 | N5: ='Focus - POLITICHE RETRIBUTIVE'!P10 -> 0 | O5: ='Focus - POLITICHE RETRIBUTIVE'!Q10 -> 0 | P5: ='Focus - POLITICHE RETRIBUTIVE'!N14 -> 0 | Q5: ='Focus - POLITICHE RETRIBUTIVE'!O14 -> 0 | R5: ='Focus - POLITICHE RETRIBUTIVE'!P14 -> 0 | S5: ='Focus - POLITICHE RETRIBUTIVE'!Q14 -> 0 | T5: ='Focus - POLITICHE RETRIBUTIVE'!N15 -> 0 | U5: ='Focus - POLITICHE RETRIBUTIVE'!O15 -> 0 | V5: ='Focus - POLITICHE RETRIBUTIVE'!P15 -> 0 | W5: ='Focus - POLITICHE RETRIBUTIVE'!Q15 -> 0 | X5: ='Focus - POLITICHE RETRIBUTIVE'!N16 -> 0 | Y5: ='Focus - POLITICHE RETRIBUTIVE'!O16 -> 0 | Z5: ='Focus - POLITICHE RETRIBUTIVE'!P16 -> 0 | AA5: ='Focus - POLITICHE RETRIBUTIVE'!Q16 -> 0 | AB5: ='Focus - POLITICHE RETRIBUTIVE'!N17 -> 0 | AC5: ='Focus - POLITICHE RETRIBUTIVE'!O17 -> 0 | AD5: ='Focus - POLITICHE RETRIBUTIVE'!P17 -> 0 | AE5: ='Focus - POLITICHE RETRIBUTIVE'!Q17 -> 0 | AF5: ='Focus - POLITICHE RETRIBUTIVE'!N18 -> 0 | AG5: ='Focus - POLITICHE RETRIBUTIVE'!O18 -> 0 | AH5: ='Focus - POLITICHE RETRIBUTIVE'!P18 -> 0 | AI5: ='Focus - POLITICHE RETRIBUTIVE'!Q18 -> 0 | AJ5: ='Focus - POLITICHE RETRIBUTIVE'!N19 -> 0 | AK5: ='Focus - POLITICHE RETRIBUTIVE'!O19 -> 0 | AL5: ='Focus - POLITICHE RETRIBUTIVE'!P19 -> 0 | AM5: ='Focus - POLITICHE RETRIBUTIVE'!Q19 -> 0 | AN5: ='Focus - POLITICHE RETRIBUTIVE'!N20 -> 0 | AO5: ='Focus - POLITICHE RETRIBUTIVE'!O20 -> 0 | AP5: ='Focus - POLITICHE RETRIBUTIVE'!P20 -> 0 | AQ5: ='Focus - POLITICHE RETRIBUTIVE'!Q20 -> 0 | AR5: ='Focus - POLITICHE RETRIBUTIVE'!N21 -> 0 | AS5: ='Focus - POLITICHE RETRIBUTIVE'!O21 -> 0 | AT5: ='Focus - POLITICHE RETRIBUTIVE'!P21 -> 0 | AU5: ='Focus - POLITICHE RETRIBUTIVE'!Q21 -> 0 | AV5: =IF('Focus - POLITICHE RETRIBUTIVE'!P26=0,"",'Focus - POLITICHE RETRIBUTIVE'!P26) | AW5: =IF('Focus - POLITICHE RETRIBUTIVE'!P27=0,"",'Focus - POLITICHE RETRIBUTIVE'!P27) | AX5: =IF('Focus - POLITICHE RETRIBUTIVE'!P28=0,"",'Focus - POLITICHE RETRIBUTIVE'!P28) | AY5: =IF('Focus - POLITICHE RETRIBUTIVE'!P29=0,"",'Focus - POLITICHE RETRIBUTIVE'!P29) | AZ5: =IF('Focus - POLITICHE RETRIBUTIVE'!I29=0,"",'Focus - POLITICHE RETRIBUTIVE'!I29) -> #VALUE! | BA5: =IF('Focus - POLITICHE RETRIBUTIVE'!F33=0,"",'Focus - POLITICHE RETRIBUTIVE'!F33) | BB5: ='Focus - POLITICHE RETRIBUTIVE'!P37 -> 0 | BC5: ='Focus - POLITICHE RETRIBUTIVE'!P38 -> 0 | BD5: ='Focus - POLITICHE RETRIBUTIVE'!P39 -> 0 | BE5: ='Focus - POLITICHE RETRIBUTIVE'!P40 -> 0 | BF5: ='Focus - POLITICHE RETRIBUTIVE'!$P45 -> 0 | BG5: ='Focus - POLITICHE RETRIBUTIVE'!$P46 -> 0 | BH5: ='Focus - POLITICHE RETRIBUTIVE'!$P47 -> 0 | BI5: ='Focus - POLITICHE RETRIBUTIVE'!$P48 -> 0 | BJ5: ='Focus - POLITICHE RETRIBUTIVE'!$P49 -> 0 | BK5: ='Focus - POLITICHE RETRIBUTIVE'!$P50 -> 0 | BL5: ='Focus - POLITICHE RETRIBUTIVE'!$P51 -> 0 | BM5: ='Focus - POLITICHE RETRIBUTIVE'!$P52 -> 0 | BN5: ='Focus - POLITICHE RETRIBUTIVE'!$P53 -> 0 | BO5: ='Focus - POLITICHE RETRIBUTIVE'!$P54 -> 0 | BP5: ='Focus - POLITICHE RETRIBUTIVE'!$P55 -> 0 | BQ5: ='Focus - POLITICHE RETRIBUTIVE'!$P56 -> 0 | BR5: ='Focus - POLITICHE RETRIBUTIVE'!$P57 -> 0 | BS5: ='Focus - POLITICHE RETRIBUTIVE'!$P58 -> 0 | BT5: ='Focus - POLITICHE RETRIBUTIVE'!$P59 -> 0 | BU5: ='Focus - POLITICHE RETRIBUTIVE'!$P60 -> 0 | BV5: ='Focus - POLITICHE RETRIBUTIVE'!$P61 -> 0 | BW5: ='Focus - POLITICHE RETRIBUTIVE'!$P62 -> 0 | BX5: ='Focus - POLITICHE RETRIBUTIVE'!$P63 -> 0 | BY5: ='Focus - POLITICHE RETRIBUTIVE'!H64 -> …..... | BZ5: ='Focus - POLITICHE RETRIBUTIVE'!F74 -> 0 | CA5: ='Focus - POLITICHE RETRIBUTIVE'!F70 -> 0 | CB5: ='Focus - POLITICHE RETRIBUTIVE'!F71 -> 0 | CC5: ='Focus - POLITICHE RETRIBUTIVE'!F72 -> 0 | CD5: ='Focus - POLITICHE RETRIBUTIVE'!F78 -> 0 | CE5: ='Focus - POLITICHE RETRIBUTIVE'!P82 -> 0 | CF5: ='Focus - POLITICHE RETRIBUTIVE'!Q82 -> 0 | CG5: ='Focus - POLITICHE RETRIBUTIVE'!P85
A6: 0

Sheet db_focus_gen
N2: H) POLITICHE AZIENDALI PER L'EQUILIBRIO FAMIGLIA-LAVORO | P2: Domanda 1.A | V2: Domanda 2 | X2: Domanda 2.A | AD2: Domanda 3 | AX2: Domanda 4 | BM2: Domanda 5 | BO2: Domanda 6 | BW2: Domanda 7 | CF2: Domanda A | CV2: Domanda B | DP2: Domanda C
