Workbook
Name _ftn1: 'Focus - POLITICHE RETRIBUTIVE'!#REF!
Name _ftn1: 'I. Questionario nazionale'!#REF!
Name _ftn1: 'II. Gomma Plastica Cavi '!#REF!
Name _ftn2: 'Focus - POLITICHE RETRIBUTIVE'!#REF!
Name _ftn2: 'I. Questionario nazionale'!#REF!
Name _ftn2: 'II. Gomma Plastica Cavi '!#REF!
Name _ftn3: 'Focus - POLITICHE RETRIBUTIVE'!#REF!
Name _ftn3: 'I. Questionario nazionale'!#REF!
Name _ftn3: 'II. Gomma Plastica Cavi '!#REF!
Name _ftn4: 'Focus - POLITICHE RETRIBUTIVE'!#REF!
Name _ftn4: 'I. Questionario nazionale'!#REF!
Name _ftn4: 'II. Gomma Plastica Cavi '!#REF!
Name _ftn5: 'Focus - POLITICHE RETRIBUTIVE'!#REF!
Name _ftn5: 'I. Questionario nazionale'!#REF!
Name _ftn5: 'II. Gomma Plastica Cavi '!#REF!
Name _ftn6: 'Focus - POLITICHE RETRIBUTIVE'!#REF!
Name _ftn6: 'I. Questionario nazionale'!#REF!
Name _ftn6: 'II. Gomma Plastica Cavi '!#REF!
Name _ftn7: 'Focus - POLITICHE RETRIBUTIVE'!#REF!
Name _ftn7: 'I. Questionario nazionale'!#REF!
Name _ftn7: 'II. Gomma Plastica Cavi '!#REF!
Name _ftnref1: 'Focus - POLITICHE RETRIBUTIVE'!#REF!
Name _ftnref1: 'I. Questionario nazionale'!#REF!
Name _ftnref1: 'II. Gomma Plastica Cavi '!#REF!
Name _ftnref2: 'Focus - POLITICHE RETRIBUTIVE'!#REF!
Name _ftnref2: 'I. Questionario nazionale'!#REF!
Name _ftnref2: 'II. Gomma Plastica Cavi '!#REF!
Name _ftnref3: 'Focus - POLITICHE RETRIBUTIVE'!#REF!
Name _ftnref3: 'I. Questionario nazionale'!#REF!
Name _ftnref3: 'II. Gomma Plastica Cavi '!#REF!
Name _ftnref4: 'Focus - POLITICHE RETRIBUTIVE'!#REF!
Name _ftnref4: 'I. Questionario nazionale'!#REF!
Name _ftnref4: 'II. Gomma Plastica Cavi '!#REF!
Name _ftnref5: 'Focus - POLITICHE RETRIBUTIVE'!#REF!
Name _ftnref5: 'I. Questionario nazionale'!#REF!
Name _ftnref5: 'II. Gomma Plastica Cavi '!#REF!
Name _ftnref6: 'Focus - POLITICHE RETRIBUTIVE'!#REF!
Name _ftnref6: 'I. Questionario nazionale'!#REF!
Name _ftnref6: 'II. Gomma Plastica Cavi '!#REF!
Name _ftnref7: 'Focus - POLITICHE RETRIBUTIVE'!#REF!
Name _ftnref7: 'I. Questionario nazionale'!#REF!
Name _ftnref7: 'II. Gomma Plastica Cavi '!#REF!

Sheet I. Questionario nazionale
C1: Indagine Confindustria sul lavoro del 2025 | L1: Colonna di controllo
C5: Questionario Nazionale
K6: FALSE
A8: Persona a cui inviare i risultati:
A10: E-mail: | L10: =+IF(B10="","Compilare E-mail","") -> Compilare E-mail
A12: A) INFORMAZIONI GENERALI SULL'IMPRESA
A13: 9
A15: A.1 Denominazione dell'impresa | L15: =+IF(F15="","Compilare denominazione impresa","") -> Compilare denominazione impresa
A17: A.2 Associazione territoriale e/o di categoria | F17: ASSOLOMBARDA | L17: =+IF(F17="","Compilare Associazione","")
L18: =+IF(C19="","Compilare Partita IVA",IF(LEN(C19)>11,"Partita IVA oltre 11 caratteri?","")) -> Compilare Partita IVA
A19: A.3 Partita IVA | F19: A.4.1 CCNL | J19: 1 | L19: =+IF(J19=1,"Scegliere CCNL principale","") -> Scegliere CCNL principale | N19: =IF(NOT(J19=""),VLOOKUP(J19,ccnl!A2:C82,3,FALSE),"0") -> 0
A21: A.4.2 Codice Ateco attività principale | J21: 1 | L21: =+IF(J21=1,"Scegliere settore Ateco principale","") -> Scegliere settore Ateco principale | N21: =IF(NOT(J21=""),VLOOKUP(J21,ateco2007_2digit!A2:C90,3,FALSE),"0") -> 0
A23: A.5 L'impresa è plurilocalizzata? | H23: No | I23: FALSE | J23: Sì | K23: FALSE | L23: =IF(P23+Q23>1,"Scegliere una sola opzione","") | N23: =+IF(I23=TRUE,1,0) -> 0 | O23: =+IF(K23=TRUE,1,0) -> 0 | P23: =N23*1 -> 0 | Q23: =O23*1 -> 0
A25: A.6 I dati che inserirà nel questionario riguardano: | L25: =IF(NOT(N27=1),IF(NOT(N29=1),"Compilare A.6",""),IF(NOT(N29=1),"","Attenzione compilare solo un'opzione!")) -> Compilare A.6
B27: =IF(P23=1,"l'unica sede","tutta l'impresa a livello nazionale") -> tutta l'impresa a livello nazionale | E27: FALSE | H27: Provincia | K27: 1 | L27: =IF(AND(P23=1,Q23=0),IF(N27=1,IF(O27>0,"","Scegliere Provincia dell'unica sede"),IF(O27>0,"Attenzione A.6!","")),IF(AND(P23=0,Q23=1),IF(N27=1,IF(O27>0,"","Scegliere Provincia della sede principale"),IF(O27>0,"Attenzione A.6!","")),"")) | N27: =+IF(E27=TRUE,1,0) -> 0 | O27: =+IF(NOT(K27=""),VLOOKUP(K27,provincia!A1:C108,3,FALSE),0) -> 0 | P27: =N27*1 -> 0
B29: solo l'unità locale | E29: FALSE | H29: Provincia | K29: 1 | L29: =IF(OR(AND(N23=1,P29=1),AND(N23=0,O23=0,P29=1)),"Attenzione A.5!",IF(P29=1,IF(O29>"0","","Scegliere Provincia dell'unità locale"),IF(AND(P29=0,O29>"0"),"Attenzione A.6!",""))) | N29: =+IF(E29=TRUE,1,0) -> 0 | O29: =IF(NOT(K29=""),VLOOKUP(K29,provincia!A1:C108,3,FALSE),0) -> 0 | P29: =N29*1 -> 0
A32: B) STRUTTURA E DINAMICA DELL'OCCUPAZIONE
A34: B.1 Numero di lavoratori dipendenti per sesso e tipologia contrattuale
D36: Lavoratori al 31.12.2023 | H36: Lavoratori al 31.12.2024 | I36: FALSE | K36: TRUE
D37: Maschi | F37: Femmine | H37: Maschi | J37: Femmine
A38: Indeterminato full-time
A39: Indeterminato part-time
A40: Totale INDETERMINATO | D40: =+SUM(D38:E39) -> 0 | F40: =+SUM(F38:G39) -> 0 | H40: =+SUM(H38:I39) -> 0 | J40: =+SUM(J38:K39) -> 0
A41: Determinato full-time
A42: Determinato part-time
A43: Apprendistato
A44: TOTALE dipendenti | D44: =D40+SUM(D41:E43) -> 0 | F44: =F40+SUM(F41:G43) -> 0 | H44: =H40+SUM(H41:I43) -> 0 | J44: =J40+SUM(J41:K43) -> 0
A48: B.2 Numero di lavoratori DIPENDENTI A TEMPO INDETERMINATO per sesso e inquadramento professionale
A50: Attenzione: questa tabella è riferita ai soli LAVORATORI A TEMPO INDETERMINATO | D50: Lavoratori al 31.12.2023 | H50: Lavoratori al 31.12.2024
D51: Maschi | E51: di cui part-time | F51: Femmine | G51: di cui part-time | H51: Maschi | I51: di cui part-time | J51: Femmine | K51: di cui part-time
A52: Dirigenti | L52: =IF(D40>0,IF(D57>0,IF(AND(D40=D57,D39=E57),"","Attenzione Maschi 2023 in B.1!"),"Compilare Maschi 2023 in B.2"),IF(AND(D40=D57,D39=E57),"","Attenzione Maschi 2023 in B.1!"))
A53: Quadri | L53: =IF(F40>0, IF(F57>0,IF(AND(F40=F57,F39=G57),"","Attenzione Femmine 2023 in B.1!"),"Compilare Femmine 2023 in B.2"),IF(AND(F40=F57,F39=G57),"","Attenzione Femmine 2023 in B.1!"))
A54: Impiegati | L54: =IF((D39+F39)>0,IF((E57+G57)>0,IF((E57+G57)=(D39+F39),"","Attenzione part-time 2023 in B.2!"),"Compilare part-time 2023 in B.2"),IF((E57+G57)=(D39+F39),"","Attenzione part-time 2023 in B.2!"))
A55: Intermedi | L55: =IF(H40>0, IF(H57>0,IF(AND(H40=H57,H39=I57),"","Attenzione Maschi 2024 in B.1!"),"Compilare Maschi 2024 in B.2"),IF(AND(H40=H57,H39=I57),"","Attenzione Maschi 2024 in B.1!"))
A56: Operai | L56: =IF(J40>0, IF(J57>0,IF(AND(J40=J57,J39=K57),"","Attenzione Femmine 2024 in B.1!"),"Compilare Femmine 2024 in B.2"),IF(AND(J40=J57,J39=K57),"","Attenzione Femmine 2024 in B.1!"))
A57: Totale INDETERMINATO | D57: =+SUM(D52:D56) -> 0 | E57: =+SUM(E52:E56) -> 0 | F57: =+SUM(F52:F56) -> 0 | G57: =+SUM(G52:G56) -> 0 | H57: =+SUM(H52:H56) -> 0 | I57: =+SUM(I52:I56) -> 0 | J57: =+SUM(J52:J56) -> 0 | K57: =+SUM(K52:K56) -> 0 | L57: =IF((H39+J39)>0,IF((I57+K57)>0,IF((I57+K57)=(H39+J39),"","Attenzione part-time 2024 in B.2!"),"Compilare part-time 2024 in B.2"),IF((I57+K57)=(H39+J39),"","Attenzione part-time 2024 in B.2!"))
A59: B.3 Indicare il numero di dipendenti che nel corso del 2024 sono stati:
A60: N.B. non vanno conteggiate le variazioni che riguardino lo stesso lavoratore (es. i rinnovi/proroghe di contratti a tempo determinato o le trasformazioni da tempo determinato a tempo indeterminato)
B61: assunti | L61: =IF((I61+I63)>0, IF((H44+J44-D44-F44)=(I61-I63),"","Attenzione: dati non coerenti con variazione tra 31.12.2023 e 31.12.2024 del totale dipendenti ricavabile da B.1"),"")
B63: cessati (dimessi, pensionati, licenziati, con contratti terminati, ...)
...

Sheet Focus - POLITICHE RETRIBUTIVE
A1: G) POLITICHE RETRIBUTIVE
A2: A.1 Denominazione dell'impresa | F2: =+'I. Questionario nazionale'!F15 -> 0 | L2: =+IF(F2="","Compilare denominazione impresa","")
A4: A.2 Associazione territoriale e/o di categoria | F4: =+'I. Questionario nazionale'!F17 -> ASSOLOMBARDA | L4: =+IF(F4="","Compilare Associazione","")
L5: =+IF(C6="","Compilare Partita IVA (senza zeri iniziali)",IF(LEN(C6)>11,"Partita IVA oltre 11 caratteri?",""))
A6: A.3 Partita IVA | C6: =+'I. Questionario nazionale'!C19 -> 0
A8: G.1 L'impresa ha una struttura di politica retributiva formalizzata?
H9: No | I9: FALSE | J9: Sì | K9: FALSE
L10: =IF(I9+K9>1,"scegliere una sola opzione","") | N10: =IF($I$9=TRUE,"1","0") -> 0 | O10: =IF($K$9=TRUE,"1","0") -> 0 | P10: =N10*1 -> 0 | Q10: =O10*1 -> 0
A12: G.2 Quali criteri vengono utilizzati per aumentare la RAL (Retribuzione Annua Lorda)?
I13: dirigenti | J13: quadri | K13: impiegati | L13: operai/intermedi | N13: dirigenti | O13: quadri | P13: impiegati | Q13: operai/intermedi
B14: Nessun criterio | I14: FALSE | J14: FALSE | K14: FALSE | L14: FALSE | N14: =IF($N$10="1","",IF(AND($O$10="1",I$22=0),"",IF(I14=TRUE,"1","0"))) -> 0 | O14: =IF($N$10="1","",IF(AND($O$10="1",J$22=0),"",IF(J14=TRUE,"1","0"))) -> 0 | P14: =IF($N$10="1","",IF(AND($O$10="1",K$22=0),"",IF(K14=TRUE,"1","0"))) -> 0 | Q14: =IF($N$10="1","",IF(AND($O$10="1",L$22=0),"",IF(L14=TRUE,"1","0"))) -> 0
B15: Obiettivi aziendali | I15: FALSE | J15: FALSE | K15: FALSE | L15: FALSE | N15: =IF($N$10="1","",IF(AND($O$10="1",I$22=0),"",IF(I15=TRUE,"1","0"))) -> 0 | O15: =IF($N$10="1","",IF(AND($O$10="1",J$22=0),"",IF(J15=TRUE,"1","0"))) -> 0 | P15: =IF($N$10="1","",IF(AND($O$10="1",K$22=0),"",IF(K15=TRUE,"1","0"))) -> 0 | Q15: =IF($N$10="1","",IF(AND($O$10="1",L$22=0),"",IF(L15=TRUE,"1","0"))) -> 0
B16: Obiettivi individuali | I16: FALSE | J16: FALSE | K16: FALSE | L16: FALSE | N16: =IF($N$10="1","",IF(AND($O$10="1",I$22=0),"",IF(I16=TRUE,"1","0"))) -> 0 | O16: =IF($N$10="1","",IF(AND($O$10="1",J$22=0),"",IF(J16=TRUE,"1","0"))) -> 0 | P16: =IF($N$10="1","",IF(AND($O$10="1",K$22=0),"",IF(K16=TRUE,"1","0"))) -> 0 | Q16: =IF($N$10="1","",IF(AND($O$10="1",L$22=0),"",IF(L16=TRUE,"1","0"))) -> 0
B17: Job evaluation/Classificazione dei ruoli | I17: FALSE | J17: FALSE | K17: FALSE | L17: FALSE | N17: =IF($N$10="1","",IF(AND($O$10="1",I$22=0),"",IF(I17=TRUE,"1","0"))) -> 0 | O17: =IF($N$10="1","",IF(AND($O$10="1",J$22=0),"",IF(J17=TRUE,"1","0"))) -> 0 | P17: =IF($N$10="1","",IF(AND($O$10="1",K$22=0),"",IF(K17=TRUE,"1","0"))) -> 0 | Q17: =IF($N$10="1","",IF(AND($O$10="1",L$22=0),"",IF(L17=TRUE,"1","0"))) -> 0
B18: Posizionamento rispetto al mercato di riferimento | I18: FALSE | J18: FALSE | K18: FALSE | L18: FALSE | N18: =IF($N$10="1","",IF(AND($O$10="1",I$22=0),"",IF(I18=TRUE,"1","0"))) -> 0 | O18: =IF($N$10="1","",IF(AND($O$10="1",J$22=0),"",IF(J18=TRUE,"1","0"))) -> 0 | P18: =IF($N$10="1","",IF(AND($O$10="1",K$22=0),"",IF(K18=TRUE,"1","0"))) -> 0 | Q18: =IF($N$10="1","",IF(AND($O$10="1",L$22=0),"",IF(L18=TRUE,"1","0"))) -> 0
B19: Anzianità di servizio | I19: FALSE | J19: FALSE | K19: FALSE | L19: FALSE | N19: =IF($N$10="1","",IF(AND($O$10="1",I$22=0),"",IF(I19=TRUE,"1","0"))) -> 0 | O19: =IF($N$10="1","",IF(AND($O$10="1",J$22=0),"",IF(J19=TRUE,"1","0"))) -> 0 | P19: =IF($N$10="1","",IF(AND($O$10="1",K$22=0),"",IF(K19=TRUE,"1","0"))) -> 0 | Q19: =IF($N$10="1","",IF(AND($O$10="1",L$22=0),"",IF(L19=TRUE,"1","0"))) -> 0
B20: Tasso di inflazione | I20: FALSE | J20: FALSE | K20: FALSE | L20: FALSE | N20: =IF($N$10="1","",IF(AND($O$10="1",I$22=0),"",IF(I20=TRUE,"1","0"))) -> 0 | O20: =IF($N$10="1","",IF(AND($O$10="1",J$22=0),"",IF(J20=TRUE,"1","0"))) -> 0 | P20: =IF($N$10="1","",IF(AND($O$10="1",K$22=0),"",IF(K20=TRUE,"1","0"))) -> 0 | Q20: =IF($N$10="1","",IF(AND($O$10="1",L$22=0),"",IF(L20=TRUE,"1","0"))) -> 0
B21: Altro | I21: FALSE | J21: FALSE | K21: FALSE | L21: FALSE | N21: =IF($N$10="1","",IF(AND($O$10="1",I$22=0),"",IF(I21=TRUE,"1","0"))) -> 0 | O21: =IF($N$10="1","",IF(AND($O$10="1",J$22=0),"",IF(J21=TRUE,"1","0"))) -> 0 | P21: =IF($N$10="1","",IF(AND($O$10="1",K$22=0),"",IF(K21=TRUE,"1","0"))) -> 0 | Q21: =IF($N$10="1","",IF(AND($O$10="1",L$22=0),"",IF(L21=TRUE,"1","0"))) -> 0
I22: ='I. Questionario nazionale'!H52+'I. Questionario nazionale'!J52 -> 0 | J22: ='I. Questionario nazionale'!H53+'I. Questionario nazionale'!J53 -> 0 | K22: ='I. Questionario nazionale'!H54+'I. Questionario nazionale'!J54 -> 0 | L22: ='I. Questionario nazionale'!H55+'I. Questionario nazionale'!J55+'I. Questionario nazionale'!H56+'I. Questionario nazionale'!J56 -> 0 | M22: =SUM(I22:L22) -> 0
A23: G.3 Quale prevede sarà, nel 2025, l'incremento medio della RAL (Retribuzione Annua Lorda) per ciascuna categoria di dipendenti?
F25: Incremento % (incrementi di merito e previsti dal CCNL)
A26: =IF(F26>0.15,_xlfn.CONCAT($R$26,S26,$T$26),"") | E26: Dirigenti | G26: =IF(F26<0,"Inserire un valore maggiore o uguale a zero","") | P26: =IF(I22>0,F26,"") | R26: Le retribuzioni sono aumentate mediamente del | S26: =F26*100 -> 0 | T26: %?
A27: =IF(F27>0.15,_xlfn.CONCAT($R$26,S27,$T$26),"") | E27: Quadri | G27: =IF(F27<0,"Inserire un valore maggiore o uguale a zero","") | P27: =IF(J22>0,F27,"") | S27: =F27*100 -> 0
A28: =IF(F28>0.15,_xlfn.CONCAT($R$26,S28,$T$26),"") | E28: Impiegati | G28: =IF(F28<0,"Inserire un valore maggiore o uguale a zero","") | P28: =IF(K22>0,F28,"") | S28: =F28*100 -> 0
A29: =IF(F29>0.15,_xlfn.CONCAT($R$26,S29,$T$26),"") | E29: Operai / Intermedi | G29: MEDIA PONDERATA | I29: =SUM(I30:L30)/M30 -> #VALUE! | P29: =IF(L22>0,F29,"") | S29: =F29*100 -> 0
I30: =IF(I22=0,"",F26*I22) | J30: =IF(J22=0,"",F27*J22) | K30: =IF(K22=0,"",F28*K22) | L30: =IF(L22=0,"",F29*L22) | M30: =IF(M22=0,"",M22)
A31: Qualora il dato per categoria di dipendenti non fosse disponibile, indicare la media dell'azienda
F32: Incremento % (incrementi di merito e previsti dal CCNL)
E33: MEDIA AZIENDA
A35: G.4 L'impresa riconosce un premio variabile?
G37: no | H37: FALSE | I37: =IF(OR(H37+'I. Questionario nazionale'!K264>1,'I. Questionario nazionale'!K264+'Focus - POLITICHE RETRIBUTIVE'!H38>1),"Attenzione! In F3 hai indicato l'erogazione di premi variabili collettivi","") | N37: =+IF(H37=TRUE,"1","0") -> 0 | P37: =N37*1 -> 0
G38: sì, solo premi variabili individuali | H38: FALSE | N38: =+IF(H38=TRUE,"1","0") -> 0 | P38: =N38*1 -> 0
G39: sì, solo premi variabili collettivi | H39: FALSE | N39: =+IF(H39=TRUE,"1","0") -> 0 | P39: =N39*1 -> 0
G40: sì, sia premi variabili collettivi che individuali | H40: FALSE | N40: =+IF(H40=TRUE,"1","0") -> 0 | P40: =N40*1 -> 0
A42: G.5 Quali sono gli indicatori (di produttività, redditività, efficienza, qualità o innovazione) sulla base dei quali vengono erogati i premi variabili?
B45: Volume della produzione/n. dipendenti | H45: FALSE | N45: =IF($N$37="1","",IF(H45=TRUE,"1","0")) -> 0 | P45: =IF(N45="","",N45*1) -> 0
B46: Fatturato o VA di bilancio/n. dipendenti | H46: FALSE | N46: =IF($N$37="1","",IF(H46=TRUE,"1","0")) -> 0 | P46: =IF(N46="","",N46*1) -> 0
B47: MOL/VA di bilancio | H47: FALSE | N47: =IF($N$37="1","",IF(H47=TRUE,"1","0")) -> 0 | P47: =IF(N47="","",N47*1) -> 0
B48: Indici di soddisfazione del cliente | H48: FALSE | N48: =IF($N$37="1","",IF(H48=TRUE,"1","0")) -> 0 | P48: =IF(N48="","",N48*1) -> 0
B49: Diminuzione n. riparazioni, rilavorazioni | H49: FALSE | N49: =IF($N$37="1","",IF(H49=TRUE,"1","0")) -> 0 | P49: =IF(N49="","",N49*1) -> 0
...

Sheet Focus - SUPPORTO GENITORIALITÀ
A1: SUPPORTO ALLA GENITORIALITÀ | N1: Colonna di controllo
A3: LEGENDA
A4: Congedo di maternità: periodo obbligatorio di astensione per le madri in prossimità del parto (5 mesi, retribuito all'80% dello stipendio).
A5: Congedo di paternità: periodo obbligatorio di astensione per i padri (10 giorni, retribuito al 100% dello stipendio).
A6: Congedo parentale: periodo facoltativo di astensione disponibile per entrambi i genitori, della durata massima di 6 mesi per ciascun genitore, con un massimo complessivo di 10 mesi (o 11 mesi se il padre utilizza almeno 3 mesi). Il congedo parentale è retribuito al 30% dello stipendio.
A8: 1) A supporto della genitorialità l'impresa prevede la possibilità di congedi con condizioni più favorevoli rispetto a quanto previsto dalla legge e dal CCNL ed integrate economicamente tra il 30% e il 100%?
F10: Sì | G10: FALSE | N10: =IF(AND(G11=FALSE,G10=TRUE),"Andare alla domanda 1a)","") | O10: Sì | P10: =IF(G10=TRUE,"1","0") -> 0 | Q10: =P10*1 -> 0
F11: No | G11: FALSE | N11: =IF(AND(G11=TRUE,G10=FALSE),"Andare alla domanda 2)","") | O11: No | P11: =IF(G11=TRUE,"1","0") -> 0 | Q11: =P11*1 -> 0
N12: =IF(G10+G11>1,"Scegliere una sola opzione!","")
A13: 1a) Se sì, selezioni tutte le opzioni applicabili - tra quelle proposte - e specifichi per ognuna l’oggetto dell’ampliamento (durata e/o indennità)
F15: Durata | G15: Indennità | P15: Durata | Q15: Indennità | U15: Durata | V15: Indennità
C16: Per congedo di maternità | F16: FALSE | G16: FALSE | O16: mat | P16: =IF(F16=TRUE,"1","0") -> 0 | Q16: =IF(G16=TRUE,"1","0") -> 0 | T16: mat | U16: =P16*1 -> 0 | V16: =Q16*1 -> 0
C17: Per congedo di paternità | F17: FALSE | G17: FALSE | O17: pat | P17: =IF(F17=TRUE,"1","0") -> 0 | Q17: =IF(G17=TRUE,"1","0") -> 0 | T17: pat | U17: =P17*1 -> 0 | V17: =Q17*1 -> 0
C18: Per congedo parentale | F18: FALSE | G18: FALSE | O18: par. | P18: =IF(F18=TRUE,"1","0") -> 0 | Q18: =IF(G18=TRUE,"1","0") -> 0 | T18: par. | U18: =P18*1 -> 0 | V18: =Q18*1 -> 0
A21: 2) L’impresa prevede condizioni di miglior favore a supporto della genitorialità in tema di orario lavorativo flessibile/smart working?
N22: =IF(G23+G24>1,"Scegliere una sola opzione!","")
F23: Sì | G23: FALSE | N23: =IF(AND(G24=FALSE,G23=TRUE),"Andare alla domanda 2a)","") | O23: Sì | P23: =IF(G23=TRUE,"1",0) -> 0 | Q23: =1*P23 -> 0
F24: No | G24: FALSE | N24: =IF(AND(G24=TRUE,G23=FALSE),"Andare alla domanda 3)","") | O24: No | P24: =IF(G24=TRUE,"1","0") -> 0 | Q24: =1*P24 -> 0
A26: 2a) Se sì, quali? (selezioni tutte le opzioni applicabili)
F28: Smart working | H28: Flessibilità di orario di ingresso | J28: Flessibilità di orario di uscita
P29: smart | Q29: fless entrata | R29: fless uscita | U29: smart | V29: fless entrata | W29: fless uscita
C30: Dirigenti e quadri | F30: FALSE | H30: FALSE | J30: FALSE | O30: dir e qua | P30: =IF(F30=TRUE,"1","0") -> 0 | Q30: =IF(H30=TRUE,"1","0") -> 0 | R30: =IF(J30=TRUE,"1","0") -> 0 | T30: dir e qua | U30: =1*P30 -> 0 | V30: =1*Q30 -> 0 | W30: =1*R30 -> 0
C31: Impiegati e operai | F31: FALSE | H31: FALSE | J31: FALSE | O31: imp e op | P31: =IF(F31=TRUE,"1","0") -> 0 | Q31: =IF(H31=TRUE,"1","0") -> 0 | R31: =IF(J31=TRUE,"1","0") -> 0 | T31: imp e op | U31: =1*P31 -> 0 | V31: =1*Q31 -> 0 | W31: =1*R31 -> 0
A34: 3) In che misura concorda che l’integrazione da parte dell’azienda dei seguenti istituti e la promozione del loro utilizzo siano strumenti efficaci per attrarre e trattenere talenti?
F36: Decisamente d'accordo | H36: D'accordo | J36: In disaccordo | L36: Decisamente in disaccordo
P37: dec acc | Q37: acc | R37: disacc | S37: dec disacc | W37: dec acc | X37: acc | Y37: disacc | Z37: dec disacc
C38: Congedo di maternità | F38: FALSE | H38: FALSE | J38: FALSE | L38: FALSE | N38: =IF(F38+H38+J38+L38>1,"Inserire una sola opzione!","") | O38: Congedo di maternità | P38: =IF(F38=TRUE,"1","0") -> 0 | Q38: =IF(H38=TRUE,"1","0") -> 0 | R38: =IF(J38=TRUE,"1","0") -> 0 | S38: =IF(L38=TRUE,"1","0") -> 0 | V38: Congedo di maternità | W38: =1*P38 -> 0 | X38: =1*Q38 -> 0 | Y38: =1*R38 -> 0 | Z38: =1*S38 -> 0
C39: Congedo di paternità | F39: FALSE | H39: FALSE | J39: FALSE | L39: FALSE | N39: =IF(F39+H39+J39+L39>1,"Inserire una sola opzione!","") | O39: Congedo di paternità | P39: =IF(F39=TRUE,"1","0") -> 0 | Q39: =IF(H39=TRUE,"1","0") -> 0 | R39: =IF(J39=TRUE,"1","0") -> 0 | S39: =IF(L39=TRUE,"1","0") -> 0 | V39: Congedo di paternità | W39: =1*P39 -> 0 | X39: =1*Q39 -> 0 | Y39: =1*R39 -> 0 | Z39: =1*S39 -> 0
C40: Congedo parentale | F40: FALSE | H40: FALSE | J40: FALSE | L40: FALSE | N40: =IF(F40+H40+J40+L40>1,"Inserire una sola opzione!","") | O40: Congedo parentale | P40: =IF(F40=TRUE,"1","0") -> 0 | Q40: =IF(H40=TRUE,"1","0") -> 0 | R40: =IF(J40=TRUE,"1","0") -> 0 | S40: =IF(L40=TRUE,"1","0") -> 0 | V40: Congedo parentale | W40: =1*P40 -> 0 | X40: =1*Q40 -> 0 | Y40: =1*R40 -> 0 | Z40: =1*S40 -> 0
C41: Orario lavorativo flessibile | F41: FALSE | H41: FALSE | J41: FALSE | L41: FALSE | N41: =IF(F41+H41+J41+L41>1,"Inserire una sola opzione!","") | O41: Orario lavorativo flessibile | P41: =IF(F41=TRUE,"1","0") -> 0 | Q41: =IF(H41=TRUE,"1","0") -> 0 | R41: =IF(J41=TRUE,"1","0") -> 0 | S41: =IF(L41=TRUE,"1","0") -> 0 | V41: Orario lavorativo flessibile | W41: =1*P41 -> 0 | X41: =1*Q41 -> 0 | Y41: =1*R41 -> 0 | Z41: =1*S41 -> 0
C42: Smart working | F42: FALSE | H42: FALSE | J42: FALSE | L42: FALSE | N42: =IF(F42+H42+J42+L42>1,"Inserire una sola opzione!","") | O42: Smart working | P42: =IF(F42=TRUE,"1","0") -> 0 | Q42: =IF(H42=TRUE,"1","0") -> 0 | R42: =IF(J42=TRUE,"1","0") -> 0 | S42: =IF(L42=TRUE,"1","0") -> 0 | V42: Smart working | W42: =1*P42 -> 0 | X42: =1*Q42 -> 0 | Y42: =1*R42 -> 0 | Z42: =1*S42 -> 0
A44: 4) Quale effetto ritiene che l’utilizzo dei seguenti istituti da parte dei dipendenti possa avere sulla loro produttività?
F46: Aumento | G46: Nessuno | H46: Diminuzione | P46: Aumento | Q46: Nessuno | R46: Diminuzione | W46: Aumento | X46: Nessuno | Y46: Diminuzione
C47: Congedo di maternità | F47: FALSE | G47: FALSE | H47: FALSE | N47: =IF(F47+G47+H47>1,"Inserire una sola opzione!","") | O47: Congedo di maternità | P47: =IF(F47=TRUE,"1","0") -> 0 | Q47: =IF(G47=TRUE,"1","0") -> 0 | R47: =IF(H47=TRUE,"1","0") -> 0 | V47: Congedo di maternità | W47: =1*P47 -> 0 | X47: =1*Q47 -> 0 | Y47: =1*R47 -> 0
C48: Congedo di paternità | F48: FALSE | G48: FALSE | H48: FALSE | N48: =IF(F48+G48+H48>1,"Inserire una sola opzione!","") | O48: Congedo di paternità | P48: =IF(F48=TRUE,"1","0") -> 0 | Q48: =IF(G48=TRUE,"1","0") -> 0 | R48: =IF(H48=TRUE,"1","0") -> 0 | V48: Congedo di paternità | W48: =1*P48 -> 0 | X48: =1*Q48 -> 0 | Y48: =1*R48 -> 0
C49: Congedo parentale | F49: FALSE | G49: FALSE | H49: FALSE | N49: =IF(F49+G49+H49>1,"Inserire una sola opzione!","") | O49: Congedo parentale | P49: =IF(F49=TRUE,"1","0") -> 0 | Q49: =IF(G49=TRUE,"1","0") -> 0 | R49: =IF(H49=TRUE,"1","0") -> 0 | V49: Congedo parentale | W49: =1*P49 -> 0 | X49: =1*Q49 -> 0 | Y49: =1*R49 -> 0
C50: Orario lavorativo flessibile | F50: FALSE | G50: FALSE | H50: FALSE | N50: =IF(F50+G50+H50>1,"Inserire una sola opzione!","") | O50: Orario lavorativo flessibile | P50: =IF(F50=TRUE,"1","0") -> 0 | Q50: =IF(G50=TRUE,"1","0") -> 0 | R50: =IF(H50=TRUE,"1","0") -> 0 | V50: Orario lavorativo flessibile | W50: =1*P50 -> 0 | X50: =1*Q50 -> 0 | Y50: =1*R50 -> 0
C51: Smart working | F51: FALSE | G51: FALSE | H51: FALSE | N51: =IF(F51+G51+H51>1,"Inserire una sola opzione!","") | O51: Smart working | P51: =IF(F51=TRUE,"1","0") -> 0 | Q51: =IF(G51=TRUE,"1","0") -> 0 | R51: =IF(H51=TRUE,"1","0") -> 0 | V51: Smart working | W51: =1*P51 -> 0 | X51: =1*Q51 -> 0 | Y51: =1*R51 -> 0
A53: 5) Quanti dipendenti dell’azienda hanno meno di 40 anni?
N54: =IF(OR(F56="",H56=""),"VALORE MANCANTE! Inserire 0 se nessun dipendente o nessuna donna under 40","") -> VALORE MANCANTE! Inserire 0 se nessun dipendente o nessuna donna under 40
...

Sheet II. Gomma Plastica Cavi 
C1: Indagine Confindustria sul lavoro del 2025
K6: FALSE
A8: A) INFORMAZIONI GENERALI SULL'IMPRESA
A10: A.1 Denominazione dell'impresa | F10: ='I. Questionario nazionale'!F15 -> 0 | N10: A.3 Partita IVA | P10: ='I. Questionario nazionale'!C19 -> 0
A12: A.7 Unità produttiva | N12: A.8 Lavorazioni | P12: 1.
P13: 2.
A14: A.9 Comparto produttivo | C14: Articoli in gomma | F14: FALSE | G14: Pneumatici | J14: FALSE | P14: 3.
C15: Manufatti in materiale plastico | F15: FALSE | G15: Cavi elettrici | J15: FALSE
C16: Altro (specificare) >>>
A20: H) SUDDIVISIONE PERSONALE PER CATEGORIA, PER GENERE, PER FASCE DI ETA' E TURNI PRATICATI
A22: H.1 Inquadramento dei lavoratori
C24: Dipendenti
C25: Uomini | D25: Donne
A26: Dirigenti
A27: Quadri e Impiegati | B27: F1
B28: E1
B29: D1
B30: C1
B31: B1
B32: A1
B33: Q
A34: Qualifiche speciali | B34: E2
B35: C2
A36: Operai | B36: I3
B37: H3
B38: G3
B39: F3
B40: E3
B41: D3
A42: Totale | C42: =SUM(C26:C41) -> 0 | D42: =SUM(D26:D41) -> 0
A44: H.2 Ripartizione addetti per fasce di età
C46: TOTALE
C47: Maschi | D47: Femmine
A48: Minori di anni 30
A49: Tra 30 e 50 anni
A50: Maggiori di anni 50
A51: TOTALE (da B.1) | B51: 0 | C51: ='I. Questionario nazionale'!H44 -> 0 | D51: ='I. Questionario nazionale'!J44 -> 0
A53: H.3 Turni praticati (1)
C55: cicli continui (3x7) | E55: 18 turni o più turni sett. (esc. 3x7) | G55: 17 turni sett. | I55: 15 o 16 turni sett. | J55: 2 turni 5 gg | K55: 10 turni sett. | M55: Altro | O55: Specificare
A57: Quadri e impiegati
...

Sheet feedback assenze
D2: Check-up assenze anno 2024 | H2: =CONCATENATE(" - ",UPPER('I. Questionario nazionale'!F15)) -> -
A4: =CONCATENATE("Buongiorno ",PROPER('I. Questionario nazionale'!D8),".") -> Buongiorno .
A5: Le confermiamo di aver ricevuto il questionario che ci ha gentilmente compilato.
A6: Vogliamo ringraziarla per l’indispensabile collaborazione che ci ha prestato e le restituiamo - sulla base dei dati che ha inserito - un quadro sintetico della situazione della sua azienda per quanto riguarda ore lavorate e tassi di assenza:
C8: Totale | F8: Quadri | I8: Impiegati/Intermedi | L8: Operai
C9: Maschi | D9: Femmine | E9: Totale | F9: Maschi | G9: Femmine | H9: Totale | I9: Maschi | J9: Femmine | K9: Totale | L9: Maschi | M9: Femmine | N9: Totale
A10: Lavoratori* | C10: =+F10+I10+L10 -> 0 | D10: =+G10+J10+M10 -> 0 | E10: =C10+D10 -> 0 | F10: =+'I. Questionario nazionale'!S101 -> 0 | G10: =+'I. Questionario nazionale'!T101 -> 0 | H10: =+F10+G10 -> 0 | I10: =+'I. Questionario nazionale'!V101 -> 0 | J10: =+'I. Questionario nazionale'!W101 -> 0 | K10: =+I10+J10 -> 0 | L10: =+'I. Questionario nazionale'!Y101 -> 0 | M10: =+'I. Questionario nazionale'!Z101 -> 0 | N10: =+L10+M10 -> 0
A11: Ore lavorabili | C11: =IF(C$10>0,+(F11*F$10+I11*I$10+L11*L$10)/C$10,"0") -> 0 | D11: =IF(D$10>0,+(G11*G$10+J11*J$10+M11*M$10)/D$10,"0") -> 0 | E11: =IF(C10>0,IF(D10>0,+(C11*C10+D11*D10)/E10,C11),D11) -> 0 | F11: =+'I. Questionario nazionale'!S102 -> 0 | G11: =+'I. Questionario nazionale'!T102 -> 0 | H11: =IF(F10>0,IF(G10>0,+(F11*F10+G11*G10)/H10,F11),G11) -> 0 | I11: =+'I. Questionario nazionale'!V102 -> 0 | J11: =+'I. Questionario nazionale'!W102 -> 0 | K11: =IF(I10>0,IF(J10>0,+(I11*I10+J11*J10)/K10,I11),J11) -> 0 | L11: =+'I. Questionario nazionale'!Y102 -> 0 | M11: =+'I. Questionario nazionale'!Z102 -> 0 | N11: =IF(L10>0,IF(M10>0,+(L11*L10+M11*M10)/N10,L11),M11) -> 0
A12: Ore lavorate | C12: =IF($C$10>0,+(F12*$F$10+I12*$I$10+L12*$L$10)/$C$10,"0") -> 0 | D12: =IF(D$10>0,+(G12*G$10+J12*J$10+M12*M$10)/D$10,"0") -> 0 | E12: =IF(C10>0,IF(D10>0,+(C12*C10+D12*D10)/E10,C12),D12) -> 0 | F12: =+'I. Questionario nazionale'!S103 -> 0 | G12: =+'I. Questionario nazionale'!T103 -> 0 | H12: =IF(F10>0,IF(G10>0,+(F12*F10+G12*G10)/H10,F12),G12) -> 0 | I12: =+'I. Questionario nazionale'!V103 -> 0 | J12: =+'I. Questionario nazionale'!W103 -> 0 | K12: =IF(I10>0,IF(J10>0,+(I12*I10+J12*J10)/K10,I12),J12) -> 0 | L12: =+'I. Questionario nazionale'!Y103 -> 0 | M12: =+'I. Questionario nazionale'!Z103 -> 0 | N12: =IF(L10>0,IF(M10>0,+(L12*L10+M12*M10)/N10,L12),M12) -> 0
A13: Ore assenza pro-capite | C13: =IF($C$10>0,+(F13*$F$10+I13*$I$10+L13*$L$10)/$C$10,"0") -> 0 | D13: =IF(D$10>0,+(G13*G$10+J13*J$10+M13*M$10)/D$10,"0") -> 0 | E13: =IF(C10>0,IF(D10>0,+E11-E12,C13),D13) -> 0 | F13: =IF(F10>0,+F11-F12,"0") -> 0 | G13: =IF(G10>0,+G11-G12,"0") -> 0 | H13: =IF(F10>0,IF(G10>0,+H11-H12,F13),G13) -> 0 | I13: =IF(I10>0,+I11-I12,"0") -> 0 | J13: =IF(J10>0,+J11-J12,"0") -> 0 | K13: =IF(I10>0,IF(J10>0,+K11-K12,I13),J13) -> 0 | L13: =IF(L10>0,+L11-L12,"0") -> 0 | M13: =IF(M10>0,+M11-M12,"0") -> 0 | N13: =IF(L10>0,IF(M10>0,+N11-N12,L13),M13) -> 0
A14: Tasso di gravità | C14: =IF($C$10>0,+(F14*$F$10+I14*$I$10+L14*$L$10)/$C$10,"0") -> 0 | D14: =IF(D$10>0,+(G14*G$10+J14*J$10+M14*M$10)/D$10,"0") -> 0 | E14: =IF(C10>0,IF(D10>0,+E13/E11,C14),D14) -> 0 | F14: =IF(F10>0,+F13/F11,"0") -> 0 | G14: =IF(G10>0,+G13/G11,"0") -> 0 | H14: =IF(F10>0,IF(G10>0,+H13/H11,F14),G14) -> 0 | I14: =IF(I10>0,+I13/I11,"0") -> 0 | J14: =IF(J10>0,+J13/J11,"0") -> 0 | K14: =IF(I10>0,IF(J10>0,+K13/K11,I14),J14) -> 0 | L14: =IF(L10>0,+L13/L11,"0") -> 0 | M14: =IF(M10>0,+M13/M11,"0") -> 0 | N14: =IF(L10>0,IF(M10>0,+N13/N11,L14),M14) -> 0
A15: * Numero medio di lavoratori a tempo indeterminato full-time in organico a dicembre 2023 e a dicembre 2024.
A17: Rimaniamo a disposizione per ogni chiarimento sui numeri contenuti nella tabella.
A18: =CONCATENATE("Ci auguriamo di poter contare anche in futuro sulla sua attiva partecipazione, e provvederemo a informarla - all’indirizzo ",LOWER('I. Questionario nazionale'!B10)," che ha indicato sul questionario - non appena saranno disponibili i risultati dell’indagine.") -> Ci auguriamo di poter contare anche in futuro sulla sua attiva partecipazione, e provvederemo a informarla - all’indirizzo che ha indicato sul questionario - non appena saranno disponibili i risultati dell’indagine.
A19: Con i migliori saluti.
A23: PER LE ASSOCIAZIONI: Metodo di calcolo del tasso di gravità
A25: Elementi per il calcolo: | G25: Esempio
A27: lavoratori al 31.12.2023 | G27: 9
A28: lavoratori al 31.12.2024 | G28: 11
A29: numero medio lavoratori nel 2024 | G29: =AVERAGE(G27:G28) -> 10
A30: giorni dell'anno | G30: 366
A31: sabati e domeniche | G31: 104
A32: festività infrasettimanali nel 2024 | G32: 9
A33: giorni di ferie e P.A.R. | G33: 33
A34: orario settimanale | G34: 40
A35: pause retribuite per settimana (in minuti) | G35: 60
A36: ore di CIG (pro-capite) | G36: =500/G29 -> 50
A37: Ore lavorabili: (366 - 104 - 9 - 33) x (40 - 60/60)/5 - 50 = | G37: =+((G30-G31-G33-G32)*((G34-(G35/60))/5))-G36 -> 1666
A39: 1. Infortuni sul lavoro e malattie professionali | G39: =100/G29 -> 10
A40: 2. Malattie non professionali | G40: =100/G29 -> 10
A41: 3. Congedi retribuiti | G41: =100/G29 -> 10
A42: 4. Altri permessi retribuiti | G42: =100/G29 -> 10
A43: 5. Assenze per sciopero | G43: =100/G29 -> 10
A44: 6. Altre assenze non retribuite | G44: =100/G29 -> 10
A45: 7. Ore di assemblea | G45: =100/G29 -> 10
A46: Ore di assenza pro-capite (totale): | G46: =SUM(G39:G45) -> 70
A48: Tasso di gravità: Ore di assenza in % delle ore lavorabili = | G48: =G46/G37 -> 0.042016807
D59: =+D55+SUM(D56:E58) -> 0 | F59: =+F55+SUM(F56:G58) -> 0 | H59: =+H55+SUM(H56:I58) -> 0 | J59: =+J55+SUM(J56:K58) -> 0

Sheet ccnl
A1: 3 Colonne in cui pescano formule della tendina CCNL | E1: cod cnel
A2: 1 | B2: (Scegliere CCNL principale) | C2: 0
A3: 2 | B3: ALIMENTARE | C3: 100 | E3: E012
A4: 3 | B4: ALISCAFI | C4: 1580
A5: 4 | B5: AREA PORTI | C5: 1800 | E5: I5G1
A6: 5 | B6: ASSICURAZIONI | C6: 3010 | E6: J121
A7: 6 | B7: ATTIVITA' FERROVIARIE | C7: 2020 | E7: I320
A8: 7 | B8: AUTOFERROTRANVIERI | C8: 2010 | E8: I022
A9: 8 | B9: AUTORIMESSE E AUTONOLEGGIO | C9: 2300 | E9: IC35
A10: 9 | B10: AUTOSTRADE E TRAFORI IN CONCESSIONE | C10: 2400 | E10: I192
A11: 10 | B11: CALZATURIERO | C11: 302 | E11: D121
A12: 11 | B12: CAPITANI DI LUNGO CORSO AL COMANDO E CAPITANI DI MACCHINA ALLA DIREZIONE | C12: 1581
A13: 12 | B13: CARTARIO E CARTOTECNICO | C13: 501 | E13: G022
A14: 13 | B14: CEMENTO, CALCE,GESSO E MALTE | C14: 402 | E14: F032
A15: 14 | B15: CHIMICO-FARMACEUTICO | C15: 601 | E15: B011
A16: 15 | B16: COIBENTAZIONI TERMO-ACUSTICHE | C16: 607 | E16: B012
A17: 16 | B17: COMANDANTI MEZZI NAVALI SPECIALI | C17: 1585
A18: 17 | B18: COMMERCIO | C18: 3030 | E18: H011
A19: 18 | B19: CONCIARIO | C19: 604 | E19: B101
A20: 19 | B20: CROCIERE | C20: 1570
A21: 20 | B21: DIPENDENTI DA AGENTI IMMOBILIARI MANDATARI PROFESSIONALI A TITOLO ONEROSO E MEDIATORI CREDITIZI | C21: 2660
A22: 21 | B22: DOPPIAGGIO | C22: 514 | E22: G161
A23: 22 | B23: EDILIZIA | C23: 700 | E23: F012
A24: 23 | B24: ENTI AUTONOMI LIRICI | C24: 512
A25: 24 | B25: ESERCIZI CINEMATOGRAFICI | C25: 511 | E25: G211
A26: 25 | B26: ESERCIZI TEATRALI | C26: 510 | E26: G310
A27: 26 | B27: FILIERA ITTICA E RETIFICI | C27: 309 | E27: D411
A28: 27 | B28: FOTOLABORATORI | C28: 507 | E28: G511
A29: 28 | B29: GAS - ACQUA | C29: 1100 | E29: K321
A30: 29 | B30: GENERICI E COMPARSE CINEMATOGRAFICI DIPENDENTI DA CASE DI PRODUZIONE | C30: 515 | E30: G131
A31: 30 | B31: GESTIONI AEROPORTUALI E SERVIZI ASSISTENTI A TERRA | C31: 1520 | E31: I810
A32: 31 | B32: GOMMA-PLASTICA | C32: 611 | E32: B371
A33: 32 | B33: GRAFICO ED EDITORIALE | C33: 502 | E33: G011
A34: 33 | B34: IMPIANTI DI TRASPORTO A FUNE | C34: 1510 | E34: I911
A35: 34 | B35: IMPRESE PRIVATE DISTRIBUZIONE, RECAPITO, SERVIZI POSTALI | C35: 2100
A36: 35 | B36: IMPRESE RADIO TELEVISIVE PRIVATE | C36: 508 | E36: G091
A37: 36 | B37: INDUSTRIA CINEAUDIOVISIVA | C37: 509 | E37: G111
A38: 37 | B38: INDUSTRIA TURISTICA | C38: 2850 | E38: H05B
A39: 38 | B39: ISTITUTI DI VIGILANZA PRIVATI | C39: 2700 | E39: HV17
A40: 39 | B40: ISTITUTI FINANZIARI E AZIENDE DI CREDITO | C40: 3020 | E40: J241
...

Sheet ateco2007_2digit
A1: Riga | B1: Descrizione | C1: Codice Ateco 2007
A2: 1 | B2: (Scegliere Ateco principale) | C2: 0
A3: 2 | B3: 01 - Coltivazioni agricole e produzione di prodotti animali, caccia e servizi connessi | C3: 01
A4: 3 | B4: 02 - Silvicoltura ed utilizzo di aree forestali | C4: 02
A5: 4 | B5: 03 - Pesca e acquacoltura | C5: 03
A6: 5 | B6: 05 - Estrazione di carbone (esclusa torba) | C6: 05
A7: 6 | B7: 06 - Estrazione di petrolio greggio e di gas naturale | C7: 06
A8: 7 | B8: 07 - Estrazione di minerali metalliferi | C8: 07
A9: 8 | B9: 08 - Altre attività di estrazione di minerali da cave e miniere | C9: 08
A10: 9 | B10: 09 - Attività dei servizi di supporto all'estrazione | C10: 09
A11: 10 | B11: 10 - Industrie alimentari | C11: 10
A12: 11 | B12: 11 - Industria delle bevande | C12: 11
A13: 12 | B13: 12 - Industria del tabacco | C13: 12
A14: 13 | B14: 13 - Industrie tessili | C14: 13
... A90: 89 | B90: 99 - Organizzazioni ed organismi extraterritoriali | C90: 99

Sheet provincia
A1: 1 | B1: (Scegliere Provincia) | D1: Denominazione regione | E1: Ripartizione geografica
A2: 2 | B2: MI - Milano | C2: MI | D2: LOMBARDIA | E2: NORD-OVEST | F2: NORD-OVEST
A3: 3 | B3: MB - Monza e della Brianza | C3: MB | D3: LOMBARDIA | E3: NORD-OVEST | F3: NORD-OVEST
A4: 4 | B4: LO - Lodi | C4: LO | D4: LOMBARDIA | E4: NORD-OVEST | F4: NORD-OVEST
A5: 5 | B5: PV - Pavia | C5: PV | D5: LOMBARDIA | E5: NORD-OVEST | F5: NORD-OVEST
A6: 6 | B6: AG - Agrigento | C6: AG | D6: SICILIA | E6: ISOLE | F6: CENTRO-SUD
A7: 7 | B7: AL - Alessandria | C7: AL | D7: PIEMONTE | E7: NORD-OVEST | F7: NORD-OVEST
A8: 8 | B8: AN - Ancona | C8: AN | D8: MARCHE | E8: CENTRO | F8: CENTRO-SUD
A9: 9 | B9: AO - Valle d'Aosta | C9: AO | D9: VALLE D'AOSTA | E9: NORD-OVEST | F9: NORD-OVEST
A10: 10 | B10: AP - Ascoli Piceno | C10: AP | D10: MARCHE | E10: CENTRO | F10: CENTRO-SUD
A11: 11 | B11: AQ - L'Aquila | C11: AQ | D11: ABRUZZO | E11: SUD | F11: CENTRO-SUD
A12: 12 | B12: AR - Arezzo | C12: AR | D12: TOSCANA | E12: CENTRO | F12: CENTRO-SUD
A13: 13 | B13: AT - Asti | C13: AT | D13: PIEMONTE | E13: NORD-OVEST | F13: NORD-OVEST
... A108: 108 | B108: VV - Vibo Valentia | C108: VV | D108: CALABRIA | E108: SUD | F108: CENTRO-SUD
