BEGIN:VCALENDAR
PRODID:-//AT Content Types//AT Event//EN
VERSION:2.0
METHOD:PUBLISH
BEGIN:VEVENT
DTSTAMP:20260421T164827Z
CREATED:20111222T144845Z
UID:ATEvent-70ac9118f410a382c030ac038a513bee
LAST-MODIFIED:20220804T144628Z
SUMMARY:Budget Previsionale: effetti sulla cassa e benefici per la liquidità aziendale
DTSTART:20120510T080000Z
DTEND:20120510T110000Z
DESCRIPTION:Un approccio operativo alla predisposizione del budget e a
 lla corretta gestione dei flussi di cassa aziendali.
LOCATION:- Assolombarda - Sala Falck (piano interrato) - Via Chiaravalle 8\, Milano
URL:https://www.assolombarda.it/appuntamenti/44620
CLASS:PUBLIC
END:VEVENT
END:VCALENDAR
