BEGIN:VCALENDAR
PRODID:-//AT Content Types//AT Event//EN
VERSION:2.0
METHOD:PUBLISH
BEGIN:VEVENT
DTSTAMP:20260421T164827Z
CREATED:20111222T144505Z
UID:ATEvent-fe2e6773db08d17d3b0cf4a3cab8612d
LAST-MODIFIED:20220804T144621Z
SUMMARY:Il bilancio per non addetti
DTSTART:20120405T080000Z
DTEND:20120405T110000Z
DESCRIPTION:L'incontro ha la finalità di fornire nozioni di base util
 i per leggere e comprendere il bilancio\, i principali documenti che n
 e integrano le informazioni ed effettuare le prime valutazioni sulla s
 truttura economico-finanziaria dell’impresa. Inoltre verrà illustra
 to come partendo dai dati di bilancio è possibile trarre informazioni
  significative sulla realtà aziendale\, attraverso le correlazioni tr
 a voci\, le principali riclassificazioni e l’analisi per indici.
LOCATION:- Assolombarda - Sala Falck (piano interrato) - Via Chiaravalle 8\, Milano
URL:https://www.assolombarda.it/appuntamenti/44619
CLASS:PUBLIC
END:VEVENT
END:VCALENDAR
