BEGIN:VCALENDAR
PRODID:-//AT Content Types//AT Event//EN
VERSION:2.0
METHOD:PUBLISH
BEGIN:VEVENT
DTSTAMP:20260421T164949Z
CREATED:20111222T143646Z
UID:ATEvent-1eb80fd4b9b01ab74f60da2a2e486715
LAST-MODIFIED:20220804T144621Z
SUMMARY:Come il factoring può migliorare la gestione dei crediti
DTSTART:20120315T090000Z
DTEND:20120315T120000Z
DESCRIPTION:L'incontro ha l'obiettivo di illustrare le caratteristiche
  e le opportunità del factoring quale servizio alternativo e compleme
 ntare al sistema bancario e assicurativo.
LOCATION:- Assolombarda - Sala Falck (piano interrato) - Via Chiaravalle 8\, Milano
URL:https://www.assolombarda.it/appuntamenti/44616
CLASS:PUBLIC
END:VEVENT
END:VCALENDAR
