BEGIN:VCALENDAR
PRODID:-//AT Content Types//AT Event//EN
VERSION:2.0
METHOD:PUBLISH
BEGIN:VEVENT
DTSTAMP:20260424T010422Z
CREATED:20111201T100505Z
UID:ATEvent-894f24d3f034c5b915c37e2b815d75f6
LAST-MODIFIED:20120924T122824Z
SUMMARY:I congedi di maternità e i riposi per allattamento
DTSTART:20120516T123000Z
DTEND:20120516T153000Z
DESCRIPTION:I mercoledì della Previdenza.
LOCATION:- Assolombarda - Sala Falck (piano interrato) - Via Chiaravalle 8\, Milano
CONTACT:lav@assolombarda.it
URL:https://www.assolombarda.it/appuntamenti/44316
CLASS:PUBLIC
END:VEVENT
END:VCALENDAR
